BEGIN:VCALENDAR
VERSION:2.0
PRODID:-//ChamberMaster//Event Calendar 2.0//EN
METHOD:PUBLISH
X-PUBLISHED-TTL:P3D
REFRESH-INTERVAL:P3D
CALSCALE:GREGORIAN
BEGIN:VEVENT
DTSTART:20250621T010000Z
DTEND:20250621T030000Z
X-MICROSOFT-CDO-ALLDAYEVENT:FALSE
SUMMARY:CAE SUMMER CONCERT: Moors & McCumber
DESCRIPTION:Outdoor seating starts at 6 pm  |  Concert begins at 7 pm\n\nGeneral Admission Tickets $20 | Kids 10 and under FREE\n\nFood truck on site  |  Beer & Wine available for a donation |  BYO camp chair or blanket\n\nNO OUTSIDE ALCOHOL ALLOWED\n\nPlease leave your 4-legged friends at home   the new pavement can get much too hot for tender paws!\n\n \n\nABOUT THE BAND\n\n\n\nA vocal harmony duo fifteen years in the making\, Moors & McCumber have done more than just endear themselves to fans   they've built a genuine community. Bridging the gap between classic folk rock and present day Americana\, they write heartfelt songs directly inspired by life's experiences. With their latest record\, released in 2023\, 'Wired to the Moon\,' they have created some of their most compelling work to date.\n\nThe sound of Moors & McCumber is adventurous\, eclectic\, and endlessly creative. Borrowing from rock\, pop\, blues\, folk\, and world music\, the two multi-instrumentalists defy common logic and embrace spontaneity to bring their stories and songs to life. Their strong vocal harmonies and unconventional instrumentation combine to create a mesmerizing experience. At the center of it all is their evocative songwriting.
X-ALT-DESC;FMTTYPE=text/html:<p style="text-align:center">Outdoor seating starts at 6 pm &nbsp\;|&nbsp\; Concert begins at 7 pm<br />\nGeneral Admission Tickets $20 | Kids 10 and under FREE</p>\n\n<p style="text-align:center">Food truck on site&nbsp\; |&nbsp\; Beer &amp\; Wine available for a donation&nbsp\;|&nbsp\; BYO camp chair or blanket<br />\n<em>NO OUTSIDE ALCOHOL ALLOWED</em></p>\n\n<p style="text-align:center">Please leave your 4-legged friends at home &ndash\; the new pavement can get much too hot for tender paws!</p>\n\n<div>&nbsp\;</div>\n\n<div><a class="accordion-toggle" href="https://evergreenarts.org/summer-concert-series/#thinkupshortcodesthinkup_builder_toggle-0" style="border-width: 0px 0px 1px\; border-top-style: initial\; border-right-style: initial\; border-bottom-style: solid\; border-left-style: initial\; border-top-color: initial\; border-right-color: initial\; border-bottom-color: rgb(195\, 28\, 28)\; border-left-color: initial\; border-image: initial\; font-family: &quot\;Roboto Condensed&quot\;\; font-style: inherit\; font-weight: 600\; margin: 0px\; outline: none 0px\; padding: 8px 15px\; vertical-align: baseline\; color: rgb(0\, 58\, 102)\; cursor: pointer\; text-decoration-line: none\; transition: color 0.2s\; display: block\; text-shadow: white 0px 1px 0px\; text-transform: uppercase\;">ABOUT THE BAND</a></div>\n\n<div>\n<div>\n<p>A vocal harmony duo fifteen years in the making\, Moors &amp\; McCumber have done more than just endear themselves to fans &ndash\; they&rsquo\;ve built a genuine community. Bridging the gap between classic folk rock and present day Americana\, they write heartfelt songs directly inspired by life&rsquo\;s experiences. With their latest record\, released in 2023\, &lsquo\;Wired to the Moon\,&rsquo\; they have created some of their most compelling work to date.</p>\n\n<p>The sound of Moors &amp\; McCumber is adventurous\, eclectic\, and endlessly creative. Borrowing from rock\, pop\, blues\, folk\, and world music\, the two multi-instrumentalists defy common logic and embrace spontaneity to bring their stories and songs to life. Their strong vocal harmonies and unconventional instrumentation combine to create a mesmerizing experience. At the center of it all is their evocative songwriting.</p>\n</div>\n</div>\n
LOCATION:Center for the Arts Evergreen\, 31880 Rocky Village Drive\, Evergreen CO 80439
UID:e.692.46848
SEQUENCE:3
DTSTAMP:20260425T195924Z
URL:https://business.goconifer.com/events/details/cae-summer-concert-moors-mccumber-46848
END:VEVENT

END:VCALENDAR
