BEGIN:VCALENDAR
VERSION:2.0
PRODID:-//ChamberMaster//Event Calendar 2.0//EN
METHOD:PUBLISH
X-PUBLISHED-TTL:P3D
REFRESH-INTERVAL:P3D
CALSCALE:GREGORIAN
BEGIN:VEVENT
DTSTART:20240419T193000Z
DTEND:20240419T213000Z
X-MICROSOFT-CDO-ALLDAYEVENT:FALSE
SUMMARY:CAE Creativity\, Coffee\, & Conversations for Seniors
DESCRIPTION:Join us for our monthly Creativity\, Coffee & Conversation for mountain area seniors! Each month we offer the opportunity for artists\, writers\, and arts appreciators (aged 60 and better) to gather and find connection through art. The first portion of the afternoon is a tour with the curator\, where you will learn about the current exhibit\; stories behind pieces in the show\, what it takes to find artists\, and how an exhibition comes together. Then we enjoy coffee and cookies as we come together to create. We have multiple stations: one with an art project led by an artists or art teacher\, one for writing\, and one for simply chatting the art of conversation. CCC is an opportunity to come together\, make new friends\, and learn something new. This program typically takes place on the second Friday of every month\, but all dates are listed below for reference.\n\n	April 19 | 1:30 - 3:30 PM\n	May 10 | 1:30   3:30 PM\n	June 14 | 1:30   3:30 PM\n	July 12 | 1:30   3:30 PM\n	August 2 | 1:30   3:30 PM\n	September 20 | 1:30   3:30 PM\n	October 11 | 1:30   3:30 PM\n	November 8 | 1:30   3:30 PM\n	December 13 | 1:30   3:30 PM
X-ALT-DESC;FMTTYPE=text/html:<span style="color:rgb(20\, 24\, 39)\; font-family:helvetica neue\,helvetica\,-apple-system\,blinkmacsystemfont\,roboto\,arial\,sans-serif\; font-size:18px">Join us for our monthly Creativity\, Coffee &amp\; Conversation for mountain area seniors!&nbsp\;Each month we offer the opportunity for artists\, writers\, and arts appreciators (aged 60 and better) to gather and find connection through art. The first portion of the afternoon is a tour with the curator\, where you will learn about the current exhibit\; stories behind pieces in the show\, what it takes to find artists\, and how an exhibition comes together. Then we enjoy coffee and cookies as we come together to create. We have multiple stations: one with an art project led by an artists or art teacher\, one for writing\, and one for simply chatting&mdash\;the art of conversation. CCC is an opportunity to come together\, make new friends\, and learn something new. This program typically takes place on the second Friday of every month\, but all dates are listed below for reference.</span>\n<ul style="margin-left:20px\; margin-right:0px">\n	<li>April 19&nbsp\;| 1:30 - 3:30 PM</li>\n	<li>May 10 | 1:30 &ndash\; 3:30 PM</li>\n	<li>June 14 | 1:30 &ndash\; 3:30 PM</li>\n	<li>July 12 | 1:30 &ndash\; 3:30 PM</li>\n	<li>August 2 | 1:30 &ndash\; 3:30 PM</li>\n	<li>September 20 | 1:30 &ndash\; 3:30 PM</li>\n	<li>October 11 | 1:30 &ndash\; 3:30 PM</li>\n	<li>November 8 | 1:30 &ndash\; 3:30 PM</li>\n	<li>December 13 | 1:30 &ndash\; 3:30 PM</li>\n</ul>\n
LOCATION:CAE 31880 Rocky Village Drive Evergreen\, CO 80439
UID:e.692.42020
SEQUENCE:3
DTSTAMP:20260420T210856Z
URL:https://business.goconifer.com/events/details/cae-creativity-coffee-conversations-for-seniors-42020
END:VEVENT

END:VCALENDAR
