BEGIN:VCALENDAR
VERSION:2.0
PRODID:-//ChamberMaster//Event Calendar 2.0//EN
METHOD:PUBLISH
X-PUBLISHED-TTL:P3D
REFRESH-INTERVAL:P3D
CALSCALE:GREGORIAN
BEGIN:VEVENT
DTSTART:20240510T000000Z
DTEND:20240510T020000Z
X-MICROSOFT-CDO-ALLDAYEVENT:FALSE
SUMMARY:CAE Art Bar - Mom's Wine & Craft Night
DESCRIPTION:ART BAR - Mom's Wine and Craft Night w/ Kristin Heidbreder\n\nMoss Project\n\nNo experience necessary. We provide all art supplies. Show up\, be creative\, and have fun!  \n\nWhat's included:\n\n\n	All art supplies.\n	Full project instruction.\n	2 glasses of wine or beer (feel free to BYOB\, but the price stays the same).\n	10% discount on CAE gift shop purchases the day of your class!\n	Wear an apron\, or clothes that you don't mind getting dirty.\n	We provide set-up and clean-up.\n\n**To book a private Art Bar\, please contact Emiko Martinez: emiko@evergreenarts.org or 303-674-0056
X-ALT-DESC;FMTTYPE=text/html:<p><strong>ART BAR - Mom&#39\;s Wine and Craft Night w/</strong>&nbsp\;<span style="background-color:rgb(250\, 250\, 250)\; color:rgb(102\, 102\, 102)\; font-family:tahoma\,geneva\,sans-serif\; font-size:14px">Kristin Heidbreder<br />\nMoss Project</span><br />\n<span style="font-size:14px"><span style="font-family:arial\,helvetica\,sans-serif">No experience necessary. We provide all art supplies. Show up\, be creative\, and have fun!&nbsp\;&nbsp\;</span></span></p>\n\n<p><span style="font-family:arial\,helvetica\,sans-serif"><strong>What&rsquo\;s included:</strong></span></p>\n\n<ul>\n	<li>All art supplies.</li>\n	<li>Full project instruction.</li>\n	<li>2 glasses of wine or beer (feel free to BYOB\, but the price stays the same).</li>\n	<li>10% discount on CAE gift shop purchases the day of your class!</li>\n	<li>Wear an apron\, or clothes that you don&rsquo\;t mind getting dirty.</li>\n	<li>We provide set-up and clean-up.</li>\n</ul>\n<span style="color:rgb(52\, 52\, 52)\; font-family:roboto\,helvetica\,arial\; font-size:16px">**To book a private Art Bar\, please contact Emiko Martinez: emiko@evergreenarts.org or 303-674-0056</span>
LOCATION:CAE 31880 Rocky Village Drive Evergreen\, CO 80439
UID:e.692.42022
SEQUENCE:3
DTSTAMP:20260419T203506Z
URL:https://business.goconifer.com/events/details/cae-art-bar-mom-s-wine-craft-night-42022
END:VEVENT

END:VCALENDAR
