BEGIN:VCALENDAR
VERSION:2.0
PRODID:-//ChamberMaster//Event Calendar 2.0//EN
METHOD:PUBLISH
X-PUBLISHED-TTL:P3D
REFRESH-INTERVAL:P3D
CALSCALE:GREGORIAN
BEGIN:VEVENT
DTSTART:20240426T000000Z
DTEND:20240426T020000Z
X-MICROSOFT-CDO-ALLDAYEVENT:FALSE
SUMMARY:CAE Art Bar Klimt Tree of Life
DESCRIPTION:Come learn about the life and art of artist Gustav Klimt. You will create your own painting of the tree of life using colors of your choice\, boutique gold foil and acrylic paint on 11 14  canvas. Jessica Mahan will lead you through a step-by-step painting demonstration on applying gold foil\, adding unique details and using contrasting colors.\nCome in for a girl's night\, date night\, team building\, or just to find your creativity through art! New projects every month are led by a talented artist instructor. No experience is necessary\, and we provide all art supplies and beverages. Just show up\, be creative\, and have fun!\n\nWhat's included:\n\n\n	Step-by-step project instruction by a professional guide\n	2 glasses of wine or beer\n	10% off items in the gift shop on the night of your class.\n	Wear an apron\, or clothes that you don't mind getting dirty.\n	We provide set-up\, clean-up\, alcohol service\, and instruction.\n\n**To book a private Art Bar\, please contact Emiko Martinez: emiko@evergreenarts.org or 303-674-0056
X-ALT-DESC;FMTTYPE=text/html:<span style="color:rgb(52\, 52\, 52)\; font-family:roboto\,helvetica\,arial\; font-size:16px">Come learn about the life and art of artist Gustav Klimt. You will create your own painting of the tree of life using colors of your choice\, boutique gold foil and acrylic paint on 11&times\;14&Prime\; canvas. Jessica Mahan will lead you through a step-by-step painting demonstration on applying gold foil\, adding unique details and using contrasting colors.</span>\n<p><em><strong>Come in for a girl&rsquo\;s night\, date night\, team building\, or just to find your creativity through art! New projects every month are led by a talented artist instructor. No experience is necessary\, and we provide all art supplies and beverages. Just show up\, be creative\, and have fun!</strong></em></p>\n\n<p><strong>What&rsquo\;s included:</strong></p>\n\n<ul>\n	<li>Step-by-step project instruction by a professional guide</li>\n	<li>2 glasses of wine or beer</li>\n	<li>10% off items in the gift shop on the night of your class.</li>\n	<li>Wear an apron\, or clothes that you don&rsquo\;t mind getting dirty.</li>\n	<li>We provide set-up\, clean-up\, alcohol service\, and instruction.</li>\n</ul>\n<span style="color:rgb(52\, 52\, 52)\; font-family:roboto\,helvetica\,arial\; font-size:16px">**To book a private Art Bar\, please contact Emiko Martinez: emiko@evergreenarts.org or 303-674-0056</span>
LOCATION:CAE 31880 Rocky Village Drive Evergreen\, CO 80439
UID:e.692.42021
SEQUENCE:3
DTSTAMP:20260420T175255Z
URL:https://business.goconifer.com/events/details/cae-art-bar-klimt-tree-of-life-42021
END:VEVENT

END:VCALENDAR
