BEGIN:VCALENDAR
VERSION:2.0
PRODID:-//ChamberMaster//Event Calendar 2.0//EN
METHOD:PUBLISH
X-PUBLISHED-TTL:P3D
REFRESH-INTERVAL:P3D
CALSCALE:GREGORIAN
BEGIN:VEVENT
DTSTART:20140927T153000Z
DTEND:20140927T200000Z
X-MICROSOFT-CDO-ALLDAYEVENT:FALSE
SUMMARY:Busterfest at Conifer Marketplace
DESCRIPTION:Busterfest \, Saturday September 27th from 9:30 a.m. to 2 p.m.  Biggest Sale of year and free giveaways!  Special thanks to all the merchants at Conifer Marketplace for providing:  Hay rides\, petting zoo & face painting from 11 a.m. to 2 p.m.  In addition fun carnival games for the kids from 11 a.m. to 2 p.m.  Join us at the Conifer Marketplace.
X-ALT-DESC;FMTTYPE=text/html:Busterfest \, Saturday September 27th from 9:30 a.m. to 2 p.m.&nbsp\; Biggest Sale of year and free giveaways!&nbsp\; Special thanks to all the merchants at Conifer Marketplace for providing:&nbsp\; Hay rides\, petting zoo &amp\; face painting from 11 a.m. to 2 p.m.&nbsp\; In addition fun carnival games for the kids from 11 a.m. to 2 p.m.&nbsp\; Join us at the Conifer Marketplace.
LOCATION:
UID:e.692.3363
SEQUENCE:3
DTSTAMP:20260423T091644Z
URL:https://business.goconifer.com/events/details/busterfest-at-conifer-marketplace-09-27-2014-3363
END:VEVENT

END:VCALENDAR
