BEGIN:VCALENDAR
VERSION:2.0
PRODID:-//ChamberMaster//Event Calendar 2.0//EN
METHOD:PUBLISH
X-PUBLISHED-TTL:P3D
REFRESH-INTERVAL:P3D
CALSCALE:GREGORIAN
BEGIN:VEVENT
DTSTART:20200312T133000Z
DTEND:20200312T153000Z
X-MICROSOFT-CDO-ALLDAYEVENT:FALSE
SUMMARY:Business Owner Focus Group: Breakfast\, Learn\, & Network
DESCRIPTION:If you missed the ones last year\, we have 2 more coming up!  Citywide Banks wanted to give back to the local business owners by bringing in breakfast and me to present business strategies from marketing to goal executing.  Only one business per industry can be in the room\, so save your spot now at www.JoinFocusGroup.com and pick your best date/location.]\n\n\n\nTuesday\, February 25\, 2020 from 7:30am-9:30am - Golden Citywide Banks\n\nThursday\, March 12\, 2020 from 7:30am-9:30am - Evergreen Citywide Banks\n\n\n\nPhoto: https://flic.kr/p/XgfoWV
X-ALT-DESC;FMTTYPE=text/html:<span style="color:rgb(29\, 33\, 41)\; font-family:helvetica\,arial\,sans-serif\; font-size:14px">If you missed the ones last year\, we have 2 more coming up!&nbsp\; Citywide Banks wanted to give back to the local business owners by bringing in breakfast and me to present business strategies from marketing to goal executing.&nbsp\; Only one business per industry can be in the room\, so save your spot now at www.JoinFocusGroup.com and pick your best date/location.]</span><br />\n<br />\n<span style="color:rgb(29\, 33\, 41)\; font-family:helvetica\,arial\,sans-serif\; font-size:14px">Tuesday\, February 25\, 2020 from 7:30am-9:30am - Golden Citywide Banks</span><br />\nThursday\, March 12\, 2020 from 7:30am-9:30am - Evergreen Citywide Banks<br />\n<br />\n<span style="color:rgb(29\, 33\, 41)\; font-family:helvetica\,arial\,sans-serif\; font-size:14px">Photo: </span><a href="https://l.facebook.com/l.php?u=https%3A%2F%2Fflic.kr%2Fp%2FXgfoWV%3Ffbclid%3DIwAR1o5oI6EgdUP75BJyi1-YSQH1_QVMr_uL51WmKoGEegwGrRYWzraJQVoco&amp\;h=AT1EKOaYe8TpoofERa1iZLHnQxw4KHIdqs_4adV4ySOd4kVrUyeaz1WcJWUKWjzP6hBBDMRUkzxsgy6UWllSVHUCJPixpcx7641iZnK_wQfLRz4DcU_ntKNdFxcnk5A4AQ" rel="nofollow noopener" style="color: rgb(56\, 88\, 152)\; cursor: pointer\; text-decoration-line: none\; font-family: Helvetica\, Arial\, sans-serif\; font-size: 14px\; white-space: pre-wrap\;" target="_blank">https://flic.kr/p/XgfoWV</a>
LOCATION:Citywide Banks 1248 Bergen Pkwy\, Evergreen\, CO 80439
UID:e.692.30047
SEQUENCE:3
DTSTAMP:20260426T033116Z
URL:https://business.goconifer.com/events/details/business-owner-focus-group-breakfast-learn-network-30047
END:VEVENT

END:VCALENDAR
