BEGIN:VCALENDAR
VERSION:2.0
PRODID:-//ChamberMaster//Event Calendar 2.0//EN
METHOD:PUBLISH
X-PUBLISHED-TTL:P3D
REFRESH-INTERVAL:P3D
CALSCALE:GREGORIAN
BEGIN:VEVENT
DTSTART:20130219T160000Z
DTEND:20130220T020000Z
X-MICROSOFT-CDO-ALLDAYEVENT:FALSE
SUMMARY:Buchanan Park Recreation Center Celebrates 10th Birthday
DESCRIPTION:Pay 2003 prices to enter Buchanan Park Recreation Center on Tuesday\, Feb. 19\, when Evergreen Park & Recreation District (EPRD) celebrates the state-of-the-art fitness facility's 10th anniversary.\n\n	 \n\n	The cost of admission will be just $5 for adults and $4 for kids 18 and under\, and cake and other goodies will be served during a daylong celebration that runs from 9 am till 7 pm at Buchanan Park Rec.\n\n	 \n\n	A number of special activities will be going on all day long\, including promotions and giveaways and a scavenger hunt to learn some trivia about the history of Buchanan Park Rec. \n\n	 \n\n	Youth and adults can participate in class and program demonstrations\, including Climbing\, Adult Fitness\, Silver Sneakers\, Weight Training and Gymnastics\, and more.\n\n	 \n\n	The Playschool\, where parents can drop their children while the work out\, will be holding an all-day Carnival.
X-ALT-DESC;FMTTYPE=text/html:<style type="text/css">\n</style>\n<p class="MsoNormal">\n	<span style="font-family: arial\; font-size: 11pt\; mso-bidi-font-size: 12.0pt\;">&nbsp\;</span></p>\n<p class="MsoNormal">\n	<span style="font-family: arial\; font-size: 11pt\; mso-bidi-font-size: 12.0pt\;">Pay 2003 prices to enter Buchanan Park Recreation Center on Tuesday\, Feb. 19\, when Evergreen Park &amp\; Recreation District (EPRD) celebrates the state-of-the-art fitness facility&rsquo\;s 10<sup>th</sup> anniversary.</span></p>\n<p class="MsoNormal">\n	<span style="font-family: arial\; font-size: 11pt\; mso-bidi-font-size: 12.0pt\;">&nbsp\;</span></p>\n<p class="MsoNormal">\n	<span style="font-family: arial\; font-size: 11pt\; mso-bidi-font-size: 12.0pt\;">The cost of admission will be just $5 for adults and $4 for kids 18 and under\, and cake and other goodies will be served during a daylong celebration that runs from 9 am till 7 pm at Buchanan Park Rec.</span></p>\n<p class="MsoNormal">\n	<span style="font-family: arial\; font-size: 11pt\; mso-bidi-font-size: 12.0pt\;">&nbsp\;</span></p>\n<p class="MsoNormal" style="margin: 0.1pt 0in\; mso-para-margin-top: .01gd\; mso-para-margin-right: 0in\; mso-para-margin-bottom: .01gd\; mso-para-margin-left: 0in\;">\n	<span style="font-family: arial\; font-size: 11pt\; mso-bidi-font-size: 12.0pt\;">A number of special activities will be going on all day long\, including promotions and giveaways and </span><span style="font-family: arial\; font-size: 11pt\; mso-bidi-font-size: 10.0pt\;">a scavenger hunt to learn some trivia about the history of Buchanan Park Rec. </span></p>\n<p class="MsoNormal" style="margin: 0.1pt 0in\; mso-para-margin-top: .01gd\; mso-para-margin-right: 0in\; mso-para-margin-bottom: .01gd\; mso-para-margin-left: 0in\;">\n	<span style="font-family: arial\; font-size: 11pt\; mso-bidi-font-size: 10.0pt\;">&nbsp\;</span></p>\n<p class="MsoNormal">\n	<span style="font-family: arial\; font-size: 11pt\; mso-bidi-font-size: 12.0pt\;">Youth and adults can participate in class and program demonstrations\, including Climbing\, Adult Fitness\, Silver Sneakers\, Weight Training and Gymnastics\, and more.</span></p>\n<p class="MsoNormal">\n	<span style="font-family: arial\; font-size: 11pt\; mso-bidi-font-size: 12.0pt\;">&nbsp\;</span></p>\n<p class="MsoNormal">\n	<span style="font-family: arial\; font-size: 11pt\; mso-bidi-font-size: 12.0pt\;">The Playschool\, where parents can drop their children while the work out\, will be holding an all-day Carnival.</span></p>\n
LOCATION:Buchanan Park Recreation Center\, 32003 Ellingwood Trail\, near the intersection of the Evergreen Parkway (Rte. 74) and Squaw Pass Road\, in north Evergreen.
UID:e.692.1402
SEQUENCE:3
DTSTAMP:20260424T102428Z
URL:https://business.goconifer.com/events/details/buchanan-park-recreation-center-celebrates-10th-birthday-02-19-2013-1402
END:VEVENT

END:VCALENDAR
