BEGIN:VCALENDAR
VERSION:2.0
PRODID:-//ChamberMaster//Event Calendar 2.0//EN
METHOD:PUBLISH
X-PUBLISHED-TTL:P3D
REFRESH-INTERVAL:P3D
CALSCALE:GREGORIAN
BEGIN:VEVENT
DTSTART:20141129T160000Z
DTEND:20141129T180000Z
X-MICROSOFT-CDO-ALLDAYEVENT:FALSE
SUMMARY:Breakfast with Santa & Mrs. Claus
DESCRIPTION:Join Santa and Mrs. Claus for a yummy catered breakfast at the Evergreen Lake House. Bring your camera and take a great family photo with Santa while you tell him what is on your list! Holiday tunes played by a string quartet will help set the mood for a fantastic way to start the season. Out of town relatives welcome and the event does sell out in so buy your tickets today! You can buy tickets at Seasonally Yours or Evergreen Crafters both located on Main Street\, Downtown Evergreen.
X-ALT-DESC;FMTTYPE=text/html:Join Santa and Mrs. Claus for a yummy catered breakfast at the Evergreen Lake House. Bring your camera and take a great family photo with Santa while you tell him what is on your list! Holiday tunes played by a string quartet will help set the mood for a fantastic way to start the season. Out of town relatives welcome and the event does sell out in so buy your tickets today! You can buy tickets at Seasonally Yours or Evergreen Crafters both located on Main Street\, Downtown Evergreen.
LOCATION:Evergreen Lake House\, Upper Bear Creek Road\, Evergreen
UID:e.692.5400
SEQUENCE:3
DTSTAMP:20260423T044256Z
URL:https://business.goconifer.com/events/details/breakfast-with-santa-mrs-claus-11-29-2014-5400
END:VEVENT

END:VCALENDAR
