BEGIN:VCALENDAR
VERSION:2.0
PRODID:-//ChamberMaster//Event Calendar 2.0//EN
METHOD:PUBLISH
X-PUBLISHED-TTL:P3D
REFRESH-INTERVAL:P3D
CALSCALE:GREGORIAN
BEGIN:VEVENT
DTSTART:20140801T233000Z
DTEND:20140802T040000Z
X-MICROSOFT-CDO-ALLDAYEVENT:FALSE
SUMMARY:Boogie at the Barn
DESCRIPTION:The next 'Boogie At The Barn' will feature the Shamrockin' tunes of The Indulgers (http://www.shamrocker.com/). Put your best kilt forward\, dance\, stomp and get down Friday\, Aug. 1 from 5:30-10PM at the historic Alderfer Barn at Alderfer/Three Sisters Park. Opening act Somebody's Brother takes the stage at 5:30\, followed by the Indulgers at 7:30 PM. Food and libations will be available for purchase.\n\n\n\nProceeds will benefit Evergreen Park & Recreation District (EPRD) & Evergreen Christian Outreach (EChO).
X-ALT-DESC;FMTTYPE=text/html:<div style="color: rgb(34\, 34\, 34)\; font-family: arial\; font-size: small\; font-style: normal\; font-variant: normal\; font-weight: normal\; letter-spacing: normal\; line-height: normal\; orphans: auto\; text-align: start\; text-indent: 0px\; text-transform: none\; white-space: normal\; widows: auto\; word-spacing: 0px\; -webkit-text-stroke-width: 0px\;">The next &lsquo\;Boogie At The Barn&rsquo\; will feature the Shamrockin&rsquo\; tunes of The Indulgers (<a href="http://www.shamrocker.com/">http://www.shamrocker.com/</a>). Put your best kilt forward\, dance\, stomp and get down Friday\, Aug. 1 from 5:30-10PM at the historic Alderfer Barn at Alderfer/Three Sisters Park. Opening act Somebody&#39\;s Brother takes the stage at 5:30\, followed by the Indulgers at 7:30 PM. Food and libations will be available for purchase.<br />\n<br />\nProceeds will benefit Evergreen Park &amp\; Recreation District (EPRD) &amp\; Evergreen Christian Outreach (EChO).</div>\n
LOCATION:The historic Alderfer Barn at Alderfer/Three Sisters Park\, 30299 Buffalo Park Rd\, Evergreen\, CO.
UID:e.692.3284
SEQUENCE:3
DTSTAMP:20260423T091230Z
URL:https://business.goconifer.com/events/details/boogie-at-the-barn-08-01-2014-3284
END:VEVENT

END:VCALENDAR
