BEGIN:VCALENDAR
VERSION:2.0
PRODID:-//ChamberMaster//Event Calendar 2.0//EN
METHOD:PUBLISH
X-PUBLISHED-TTL:P3D
REFRESH-INTERVAL:P3D
CALSCALE:GREGORIAN
BEGIN:VEVENT
DTSTART:20101023T160000Z
DTEND:20101023T200000Z
X-MICROSOFT-CDO-ALLDAYEVENT:FALSE
SUMMARY:Boo in the Hills!
DESCRIPTION:Announcing the 1st annual Halloween Portrait Fundraiser - Boo in the Hills!\n\nBring your little prince or princess\, ghost or goblin in costume for a studio portrait by Amy Johnson Photography. (www.amyphoto.com)  Amy will have hay bales and pumpkins for  a great Halloween portrait.  Recommended donation of $10 per portrait\, of which 100% goes to MRC?s Family Education Programs. All ages welcome.  We will have fun fall crafts and activities! \n\n\n\nFor more information\, please contact Mary Alice at maryalice@mrcco.org or 303.838.7552 x30.
X-ALT-DESC;FMTTYPE=text/html:Announcing the 1st annual Halloween Portrait Fundraiser - Boo in the Hills!\n<br>Bring your little prince or princess\, ghost or goblin in costume for a studio portrait by Amy Johnson Photography. (www.amyphoto.com)  Amy will have hay bales and pumpkins for  a great Halloween portrait.  Recommended donation of $10 per portrait\, of which 100% goes to MRC?s Family Education Programs. All ages welcome.  We will have fun fall crafts and activities! \n<br>\n<br>For more information\, please contact Mary Alice at maryalice@mrcco.org or 303.838.7552 x30.\n<br>
LOCATION:Mountain Resource Center\, 11030 Kitty Drive in Conifer
UID:e.692.798
SEQUENCE:3
DTSTAMP:20260424T181255Z
URL:https://business.goconifer.com/events/details/boo-in-the-hills-10-23-2010-798
END:VEVENT

END:VCALENDAR
