BEGIN:VCALENDAR
VERSION:2.0
PRODID:-//ChamberMaster//Event Calendar 2.0//EN
METHOD:PUBLISH
X-PUBLISHED-TTL:P3D
REFRESH-INTERVAL:P3D
CALSCALE:GREGORIAN
BEGIN:VEVENT
DTSTART:20200420T180000Z
DTEND:20200420T190000Z
X-MICROSOFT-CDO-ALLDAYEVENT:FALSE
SUMMARY:Board of County Commissioners COVID-19 Briefing/Update
DESCRIPTION:Board of County Commissioners COVID Update\n\n	When:\n	12:00 PM - 1:00 PM\n	Location:\n	Webex Online (Dial: 303.271.8850\, Access Code: 995 292 934)
X-ALT-DESC;FMTTYPE=text/html:Board of County Commissioners COVID Update\n<dl>\n	<dt style="box-sizing: content-box\; margin: 0px\; padding: 0px\; border: 0px\; outline: 0px\; font-weight: bold\; font-size: 12px\; font-family: Arial\; vertical-align: baseline\; float: left\; caret-color: rgb(51\, 51\, 51)\; text-size-adjust: auto\;">When:</dt>\n	<dd style="box-sizing: content-box\; margin: 0px 0px 5px 6em\; padding: 0px\; border: 0px\; outline: 0px\; font-size: 12px\; font-family: Arial\; vertical-align: baseline\; caret-color: rgb(51\, 51\, 51)\; text-size-adjust: auto\;">12:00 PM&thinsp\;-&thinsp\;1:00 PM</dd>\n	<dt style="box-sizing: content-box\; margin: 0px\; padding: 0px\; border: 0px\; outline: 0px\; font-weight: bold\; font-size: 12px\; font-family: Arial\; vertical-align: baseline\; float: left\; caret-color: rgb(51\, 51\, 51)\; text-size-adjust: auto\;">Location:</dt>\n	<dd style="box-sizing: content-box\; margin: 0px 0px 5px 6em\; padding: 0px\; border: 0px\; outline: 0px\; font-size: 12px\; font-family: Arial\; vertical-align: baseline\; caret-color: rgb(51\, 51\, 51)\; text-size-adjust: auto\;">Webex Online (Dial: 303.271.8850\, Access Code: 995 292 934)</dd>\n</dl>\n
LOCATION:
UID:e.692.30775
SEQUENCE:3
DTSTAMP:20260425T221808Z
URL:https://business.goconifer.com/events/details/board-of-county-commissioners-covid-19-briefing-update-30775
END:VEVENT

END:VCALENDAR
