BEGIN:VCALENDAR
VERSION:2.0
PRODID:-//ChamberMaster//Event Calendar 2.0//EN
METHOD:PUBLISH
X-PUBLISHED-TTL:P3D
REFRESH-INTERVAL:P3D
CALSCALE:GREGORIAN
BEGIN:VEVENT
DTSTART:20101209T003000Z
DTEND:20101209T033000Z
X-MICROSOFT-CDO-ALLDAYEVENT:FALSE
SUMMARY:BLS for the Healthcare Provider Renewal Class
DESCRIPTION:Recertification for all healthcare providers or other support staff with a current BLS card.
X-ALT-DESC;FMTTYPE=text/html:Recertification for all healthcare providers or other support staff with a current BLS card.
LOCATION:Conifer Center.
UID:e.692.821
SEQUENCE:3
DTSTAMP:20260424T212356Z
URL:https://business.goconifer.com/events/details/bls-for-the-healthcare-provider-renewal-class-12-08-2010-821
END:VEVENT

END:VCALENDAR
