BEGIN:VCALENDAR
VERSION:2.0
PRODID:-//ChamberMaster//Event Calendar 2.0//EN
METHOD:PUBLISH
X-PUBLISHED-TTL:P3D
REFRESH-INTERVAL:P3D
CALSCALE:GREGORIAN
BEGIN:VEVENT
DTSTART:20110217T010000Z
DTEND:20110217T030000Z
X-MICROSOFT-CDO-ALLDAYEVENT:FALSE
SUMMARY:BLS for the Healthcare Provider Renewal and Skills Check
DESCRIPTION:Renew your BLS skills before your 2 year certification expires!  Take the online course and schedule a skills check with Heartfelt CPR or register for this renewal course.  Class includes 1 and 2 person CPR for the adult\, child and infant\, choking\, AED and bag valve mask skills.
X-ALT-DESC;FMTTYPE=text/html:Renew your BLS skills before your 2 year certification expires!  Take the online course and schedule a skills check with Heartfelt CPR or register for this renewal course.  Class includes 1 and 2 person CPR for the adult\, child and infant\, choking\, AED and bag valve mask skills.
LOCATION:Conifer Square Location. Please contact Heartfelt CPR if you would like a class at your location.
UID:e.692.837
SEQUENCE:3
DTSTAMP:20260425T003837Z
URL:https://business.goconifer.com/events/details/bls-for-the-healthcare-provider-renewal-and-skills-check-02-16-2011-837
END:VEVENT

END:VCALENDAR
