BEGIN:VCALENDAR
VERSION:2.0
PRODID:-//ChamberMaster//Event Calendar 2.0//EN
METHOD:PUBLISH
X-PUBLISHED-TTL:P3D
REFRESH-INTERVAL:P3D
CALSCALE:GREGORIAN
BEGIN:VEVENT
DTSTART:20101217T160000Z
DTEND:20101217T200000Z
X-MICROSOFT-CDO-ALLDAYEVENT:FALSE
SUMMARY:BLS for the Healthcare Provider CPR Class
DESCRIPTION:CPR instruction for clinicians\, medical assistants\, physical therapists\, dental professionals\, nurses\, doctors\, and anyone who is required to have a current AHA CPR card.  Includes 1 and 2 rescuer adult\, child and infant CPR\, with AED and choking and bag valve mask instruction and more.
X-ALT-DESC;FMTTYPE=text/html:CPR instruction for clinicians\, medical assistants\, physical therapists\, dental professionals\, nurses\, doctors\, and anyone who is required to have a current AHA CPR card.  Includes 1 and 2 rescuer adult\, child and infant CPR\, with AED and choking and bag valve mask instruction and more.
LOCATION:Conifer Center
UID:e.692.822
SEQUENCE:3
DTSTAMP:20260424T212330Z
URL:https://business.goconifer.com/events/details/bls-for-the-healthcare-provider-cpr-class-12-17-2010-822
END:VEVENT

END:VCALENDAR
