BEGIN:VCALENDAR
VERSION:2.0
PRODID:-//ChamberMaster//Event Calendar 2.0//EN
METHOD:PUBLISH
X-PUBLISHED-TTL:P3D
REFRESH-INTERVAL:P3D
CALSCALE:GREGORIAN
BEGIN:VEVENT
DTSTART:20101204T160000Z
DTEND:20101204T200000Z
X-MICROSOFT-CDO-ALLDAYEVENT:FALSE
SUMMARY:BLS for the Healthcare Provider CPR Class
DESCRIPTION:For nurses\, doctors\, clinicians\, medical assistants\, and anyone who is required to have AHA certification.  Includes 1 and 2 rescuer adult\, child and infant CPR with AED\, bag valve mask\, choking and more.
X-ALT-DESC;FMTTYPE=text/html:For nurses\, doctors\, clinicians\, medical assistants\, and anyone who is required to have AHA certification.  Includes 1 and 2 rescuer adult\, child and infant CPR with AED\, bag valve mask\, choking and more.
LOCATION:Conifer Center
UID:e.692.819
SEQUENCE:3
DTSTAMP:20260424T212254Z
URL:https://business.goconifer.com/events/details/bls-for-the-healthcare-provider-cpr-class-12-04-2010-819
END:VEVENT

END:VCALENDAR
