BEGIN:VCALENDAR
VERSION:2.0
PRODID:-//ChamberMaster//Event Calendar 2.0//EN
METHOD:PUBLISH
X-PUBLISHED-TTL:P3D
REFRESH-INTERVAL:P3D
CALSCALE:GREGORIAN
BEGIN:VEVENT
DTSTART:20110822T150000Z
DTEND:20110822T183000Z
X-MICROSOFT-CDO-ALLDAYEVENT:FALSE
SUMMARY:BLS for the Healthcare Provider CPR Certification and Renewal Course
DESCRIPTION:New 2010 guidelines\, Basic Life Support for the Healthcare Provider CPR certification and renewal course.  \n\nCourse includeds instruction on 1 and 2 person Adult\, Child and Infant CPR\, Choking\, bag valve mask and AED skills.   2 year certification card included.  Current 2010 Guidelines BLS book required.
X-ALT-DESC;FMTTYPE=text/html:New 2010 guidelines\, Basic Life Support for the Healthcare Provider CPR certification and renewal course.&nbsp\;&nbsp\;<br />\nCourse includeds instruction on 1 and 2 person Adult\, Child and Infant CPR\, Choking\, bag valve mask and AED skills.&nbsp\;&nbsp\; 2 year certification card included.&nbsp\; Current 2010 Guidelines BLS book required.
LOCATION:Conifer Square 26697B Pleasant Park Road\, Suite 200 Conifer\, CO 80433
UID:e.692.1182
SEQUENCE:3
DTSTAMP:20260425T112812Z
URL:https://business.goconifer.com/events/details/bls-for-the-healthcare-provider-cpr-certification-and-renewal-course-08-22-2011-1182
END:VEVENT

END:VCALENDAR
