BEGIN:VCALENDAR
VERSION:2.0
PRODID:-//ChamberMaster//Event Calendar 2.0//EN
METHOD:PUBLISH
X-PUBLISHED-TTL:P3D
REFRESH-INTERVAL:P3D
CALSCALE:GREGORIAN
BEGIN:VEVENT
DTSTART:20110211T163000Z
DTEND:20110211T203000Z
X-MICROSOFT-CDO-ALLDAYEVENT:FALSE
SUMMARY:BLS for the Healthcare Provider
DESCRIPTION:AHA CPR course for all  Healthcare Providers or those required to know the skills of Basic Life Support.  Course includes 1 and 2 person CPR for the adult\, child and infant\, choking\, AED and bag valve mask skills.
X-ALT-DESC;FMTTYPE=text/html:AHA CPR course for all  Healthcare Providers or those required to know the skills of Basic Life Support.  Course includes 1 and 2 person CPR for the adult\, child and infant\, choking\, AED and bag valve mask skills.
LOCATION:Conifer Square Location. Please contact Heartfelt CPR if you would like a class at your location.
UID:e.692.836
SEQUENCE:3
DTSTAMP:20260425T003747Z
URL:https://business.goconifer.com/events/details/bls-for-the-healthcare-provider-02-11-2011-836
END:VEVENT

END:VCALENDAR
