BEGIN:VCALENDAR
VERSION:2.0
PRODID:-//ChamberMaster//Event Calendar 2.0//EN
METHOD:PUBLISH
X-PUBLISHED-TTL:P3D
REFRESH-INTERVAL:P3D
CALSCALE:GREGORIAN
BEGIN:VEVENT
DTSTART:20250423T233000Z
DTEND:20250424T003000Z
X-MICROSOFT-CDO-ALLDAYEVENT:FALSE
SUMMARY:Block Therapy Trauma Release
DESCRIPTION:Trauma (physical and emotional) becomes trapped in your body and leads to pain\, aging\, and disease. This powerful self-healing practice unlocks the restrictions and adhesions that block blood and oxygen flow and releases trauma at a cellular level. All levels. Wear comfortable clothes. Bring a yoga mat if you have one and a water bottle. A Block Buddy will be provided.
X-ALT-DESC;FMTTYPE=text/html:<span style="color:rgb(79\, 77\, 89)\; font-family:inter\,sans-serif\; font-size:12px">Trauma (physical and emotional) becomes trapped in your body and leads to pain\, aging\, and disease. This powerful self-healing practice unlocks the restrictions and adhesions that block blood and oxygen flow and releases trauma at a cellular level. All levels. Wear comfortable clothes. Bring a yoga mat if you have one and a water bottle. A Block Buddy will be provided.</span>
LOCATION:Taspen's Yoga and Healing Center 25797 Conifer Rd\, C-130\, Conifer\, CO 80433 or via Zoom. Register here: https://peaceworksinc.co/events
UID:e.692.46789
SEQUENCE:3
DTSTAMP:20260426T010251Z
URL:https://business.goconifer.com/events/details/block-therapy-trauma-release-04-23-2025-46789
END:VEVENT

END:VCALENDAR
