BEGIN:VCALENDAR
VERSION:2.0
PRODID:-//ChamberMaster//Event Calendar 2.0//EN
METHOD:PUBLISH
X-PUBLISHED-TTL:P3D
REFRESH-INTERVAL:P3D
CALSCALE:GREGORIAN
BEGIN:VEVENT
DTSTART:20260207T020000Z
DTEND:20260207T040000Z
X-MICROSOFT-CDO-ALLDAYEVENT:FALSE
SUMMARY:Bingo Night with Conifer Instumental Music Boosters
DESCRIPTION:Family Bingo Night\n\nFriday\, February 6\, 2026 - WIN CASH PRIZES!\n\nDoors open @ 6:15pm: PLAY BEGINS @ 7:00pm\n\nWhere: Conifer High School\n\n10441 County Hwy 73\n\nCost: $15 per person (cash only) gets you in the door and 8 rounds of bingo play (additional cards available for purchase). All ages are welcome to play with an adult. Snack Bar will be open!\n\nThere will be a 50/50 raffle for an additional chance to win cash!\n\nHosted by Conifer Instrumental Music Boosters. All proceeds will benefit the CHS Instrumental Music Program.
X-ALT-DESC;FMTTYPE=text/html:<span style="background-color:rgb(250\, 250\, 250)\; color:rgb(66\, 66\, 66)\; font-family:arial\,helvetica\,sans-serif\; font-size:12px">Family Bingo Night</span><br />\n<span style="background-color:rgb(250\, 250\, 250)\; color:rgb(66\, 66\, 66)\; font-family:arial\,helvetica\,sans-serif\; font-size:12px">Friday\, February 6\, 2026 -&nbsp\;WIN CASH PRIZES!</span><br />\n<span style="background-color:rgb(250\, 250\, 250)\; color:rgb(66\, 66\, 66)\; font-family:arial\,helvetica\,sans-serif\; font-size:12px">Doors open @ 6:15pm: PLAY BEGINS @ 7:00pm</span><br />\n<span style="background-color:rgb(250\, 250\, 250)\; color:rgb(66\, 66\, 66)\; font-family:arial\,helvetica\,sans-serif\; font-size:12px">Where: Conifer High School</span><br />\n<span style="background-color:rgb(250\, 250\, 250)\; color:rgb(66\, 66\, 66)\; font-family:arial\,helvetica\,sans-serif\; font-size:12px">10441 County Hwy 73</span><br />\n<span style="background-color:rgb(250\, 250\, 250)\; color:rgb(66\, 66\, 66)\; font-family:arial\,helvetica\,sans-serif\; font-size:12px">Cost: $15 per person&nbsp\;</span><u><strong>(cash only)</strong></u><span style="background-color:rgb(250\, 250\, 250)\; color:rgb(66\, 66\, 66)\; font-family:arial\,helvetica\,sans-serif\; font-size:12px">&nbsp\;gets you in the door and 8 rounds of bingo play (additional cards available for purchase). All&nbsp\;ages are welcome to play with an adult. Snack Bar will be open!</span><br />\n<span style="background-color:rgb(250\, 250\, 250)\; color:rgb(66\, 66\, 66)\; font-family:arial\,helvetica\,sans-serif\; font-size:12px">There will be a 50/50 raffle for an additional chance to win cash!</span><br />\n<span style="background-color:rgb(250\, 250\, 250)\; color:rgb(66\, 66\, 66)\; font-family:arial\,helvetica\,sans-serif\; font-size:12px">Hosted by Conifer Instrumental Music Boosters. All proceeds will benefit the CHS Instrumental Music Program.</span>
LOCATION:Conifer High School
UID:e.692.48311
SEQUENCE:3
DTSTAMP:20260423T131236Z
URL:https://business.goconifer.com/events/details/bingo-night-with-conifer-instumental-music-boosters-02-06-2026-48311
END:VEVENT

END:VCALENDAR
