BEGIN:VCALENDAR
VERSION:2.0
PRODID:-//ChamberMaster//Event Calendar 2.0//EN
METHOD:PUBLISH
X-PUBLISHED-TTL:P3D
REFRESH-INTERVAL:P3D
CALSCALE:GREGORIAN
BEGIN:VEVENT
DTSTART:20160203T020000Z
DTEND:20160203T040000Z
X-MICROSOFT-CDO-ALLDAYEVENT:FALSE
SUMMARY:Better: The Road to Fulfilling Your Wellness Potential
DESCRIPTION:What it means to feel great and how to achieve that is different for each individual. In this interactive\, two-part series\, we will explore together the role and quality of food (tastings included of course!)\, movement\, sleep\, resilience\, and connectedness in our lives.\n\n\n\nLauren Grossman received a master's in Health Policy and Management from the Harvard School of Public Health and had an administrative fellowship at Beth Israel Hospital in Boston. At 30\, she started medical school at Mount Sinai in NYC\, completing her last year at Hadassah Medical Center in Jerusalem. Lauren recently completed a two-year fellowship in Integrative Medicine with Andrew Weil at the University of Arizona and is currently practicing both Emergency and Integrative Medicine.
X-ALT-DESC;FMTTYPE=text/html:<span style="color:rgb(20\, 24\, 35)\; font-family:helvetica\,arial\,sans-serif\; font-size:14px">What it means to feel great and how to achieve that is different for each individual. In this interactive\, two-part series\, we will explore together the role and quality of food (tastings included of course!)\, movement\, sleep\, resilience\, and connectedness in our lives.</span><br />\n<br />\n<span style="color:rgb(20\, 24\, 35)\; font-family:helvetica\,arial\,sans-serif\; font-size:14px">Lauren Grossman received a master&rsquo\;s in Health Policy and Management from the Harvard School of Public Health and had an administrative fellowship at Beth Israel Hospital in Boston. At 30\, she started medical school at Mount Sinai in NYC\, completing her last year at Hadassah Medical Center in Jerusalem. Lauren recently completed a two-year fellowship in Integrative Medicine with Andrew Weil at the University of Arizona and is currently practicing both Emergency and Integrative Medicine.</span>
LOCATION:Congregation Beth Evergreen
UID:e.692.16423
SEQUENCE:3
DTSTAMP:20260422T020802Z
URL:https://business.goconifer.com/events/details/better-the-road-to-fulfilling-your-wellness-potential-02-02-2016-16423
END:VEVENT

END:VCALENDAR
