BEGIN:VCALENDAR
VERSION:2.0
PRODID:-//ChamberMaster//Event Calendar 2.0//EN
METHOD:PUBLISH
X-PUBLISHED-TTL:P3D
REFRESH-INTERVAL:P3D
CALSCALE:GREGORIAN
BEGIN:VEVENT
DTSTART:20150418T150000Z
DTEND:20150418T230000Z
X-MICROSOFT-CDO-ALLDAYEVENT:FALSE
SUMMARY:Become a Certified BodyTalk Access Technician
DESCRIPTION:Become a BodyTalk Access Technician with Susana Moening\n\n\n\nBodyTalk Access is a wellness routine composed of 5 simple techniques to help and your family improve your health\, manage stress and your overall well-being.  Implement these techniques in just 10 minutes a day-Have them for a lifetime!\n\n\n\nBenefits from using this routine:\n\n~ Balance and enhance the communication\n\n    within your mind and body.\n\n~Boost your immune system.\n\n~Rebound quickly from stressful situations.\n\n~Balance your physical structure.\n\n~Help the body recover from injuries.\n\n*For more detailed info on BodyTalk Access\, scroll down\n\n\n\nInvestment: $150\n\nSave $25 if registered and paid one month in advance.\n\nhttp://www.bodytalksystem.com/seminars/details.cfm?id=24241\n\n\n\nFor more information\, Class Coordinator:\n\nHeather Baruch\n\n303-816-0429\n\ntaspens@gmail.com\n\n\n\nSusana Moening\, CBP\n\nCertified BodyTalk Practitioner\n\nBodyTalk Access Trainer\n\nHeartMath Trainer\n\nSusana@mindfulshifts.com\n\n\n\nSusana has a thriving BodyTalk practice where she helps children\, adults and animals to restore balance and communication within the body and mind.  She is dedicated to guiding people back to their joy\, mindfully shifting old paradigms and embracing new possibilities.\n\n\n\nAbout BodyTalk Access\n\n\n\nThe BodyTalk Access program was unveiled at the 2005 International BodyTalk Association Member's Conference. The energy was amazing\, as professionals from around the world responded to the potential of this revolutionary new program.\n\n\n\nBodyTalk Access provides the layperson\, family and community with a simple set of energy-based techniques to make health maintenance and the management of daily health challenges accessible. A majority of your day-to-day health and stress-related concerns can very easily be addressed with the BodyTalk Access routine\, when done on a regular basis.\n\n\n\nSimplification\n\nBodyTalk Access is based on the comprehensive foundation of the BodyTalk System. Several of the most powerful balancing techniques of the BodyTalk System have been adapted for use by the individual in the home\, school\, or work environment. These five techniques along with the Fast Aid routine\, work together as a set to balance the body in very general ways. Even though the balancing is general\, the effects are frequently immediately noticeable.\n\n\n\nIncrease your Resiliency\n\nThe wellness routine presented in BodyTalk Access helps to re-establish internal lines of communication within the bodymind. This ultimately helps the individual have more resiliency towards stress and any other factors that can be detrimental to long term health. The Access routine is designed to be practiced as a complete set and can be done once a day or more depending on need.\n\n\n\nThe first two techniques balance the brain\, so that the brain is turned on and communicating appropriately. The next two techniques balance the metabolic processes of the body and the entire immune system\, helping the body be more resilient to stress and external forces\, such as germs and viruses. The final technique helps to balance posture and the physical structure of the body\, thus improving range-of-motion\, flexibility and overall coordination of the muscles\, tendons and ligaments.\n\n\n\nThe Fast Aid routine combines two of the above techniques to assist in helping the body recover from all sorts of minor to major injuries by shifting the body out of a state of shock and trauma back into the growth and healing mode. Fast Aid is highly flexible\, incredibly fast and can be used anytime or place to assist in the recovery from injuries and trauma.\n\n\n\nLearn in One Day\, Use for a Lifetime\n\nBodyTalk Access is designed to be used by anyone: layperson\, family member\, care giver or healthcare provider alike. These five simple techniques can bring about a significant improvement in health and once learned in the one-day Access class\, they can be implemented in less than 10 minutes. You will have these powerful tools for health for the rest of your life.\n\n\n\nIt is our hope that BodyTalk Access will be able to provide a basic level of health maintenance in communities and countries around the world where good healthcare may not be readily available. It is also our hope to reach families and give them options to take their health back into their own hands\, literally.
X-ALT-DESC;FMTTYPE=text/html:Become a BodyTalk Access Technician with Susana Moening<br />\n<br />\nBodyTalk Access is a wellness routine composed of 5 simple techniques to help and your family improve your health\, manage stress and your overall well-being.&nbsp\; Implement these techniques in just 10 minutes a day-Have them for a lifetime!<br />\n<br />\nBenefits from using this routine:<br />\n~ Balance and enhance the communication<br />\n&nbsp\;&nbsp\;&nbsp\; within your mind and body.<br />\n~Boost your immune system.<br />\n~Rebound quickly from stressful situations.<br />\n~Balance your physical structure.<br />\n~Help the body recover from injuries.<br />\n*For more detailed info on BodyTalk Access\, scroll down<br />\n<br />\nInvestment: $150<br />\nSave $25 if registered and paid one month in advance.<br />\nhttp://www.bodytalksystem.com/seminars/details.cfm?id=24241<br />\n<br />\nFor more information\, Class Coordinator:<br />\nHeather Baruch<br />\n303-816-0429<br />\ntaspens@gmail.com<br />\n<br />\nSusana Moening\, CBP<br />\nCertified BodyTalk Practitioner<br />\nBodyTalk Access Trainer<br />\nHeartMath Trainer<br />\nSusana@mindfulshifts.com<br />\n<br />\nSusana has a thriving BodyTalk practice where she helps children\, adults and animals to restore balance and communication within the body and mind.&nbsp\; She is dedicated to guiding people back to their joy\, mindfully shifting old paradigms and embracing new possibilities.<br />\n<br />\nAbout BodyTalk Access<br />\n<br />\nThe BodyTalk Access program was unveiled at the 2005 International BodyTalk Association Member&#39\;s Conference. The energy was amazing\, as professionals from around the world responded to the potential of this revolutionary new program.<br />\n<br />\nBodyTalk Access provides the layperson\, family and community with a simple set of energy-based techniques to make health maintenance and the management of daily health challenges accessible. A majority of your day-to-day health and stress-related concerns can very easily be addressed with the BodyTalk Access routine\, when done on a regular basis.<br />\n<br />\nSimplification<br />\nBodyTalk Access is based on the comprehensive foundation of the BodyTalk System. Several of the most powerful balancing techniques of the BodyTalk System have been adapted for use by the individual in the home\, school\, or work environment. These five techniques along with the Fast Aid routine\, work together as a set to balance the body in very general ways. Even though the balancing is general\, the effects are frequently immediately noticeable.<br />\n<br />\nIncrease your Resiliency<br />\nThe wellness routine presented in BodyTalk Access helps to re-establish internal lines of communication within the bodymind. This ultimately helps the individual have more resiliency towards stress and any other factors that can be detrimental to long term health. The Access routine is designed to be practiced as a complete set and can be done once a day or more depending on need.<br />\n<br />\nThe first two techniques balance the brain\, so that the brain is turned on and communicating appropriately. The next two techniques balance the metabolic processes of the body and the entire immune system\, helping the body be more resilient to stress and external forces\, such as germs and viruses. The final technique helps to balance posture and the physical structure of the body\, thus improving range-of-motion\, flexibility and overall coordination of the muscles\, tendons and ligaments.<br />\n<br />\nThe Fast Aid routine combines two of the above techniques to assist in helping the body recover from all sorts of minor to major injuries by shifting the body out of a state of shock and trauma back into the growth and healing mode. Fast Aid is highly flexible\, incredibly fast and can be used anytime or place to assist in the recovery from injuries and trauma.<br />\n<br />\nLearn in One Day\, Use for a Lifetime<br />\nBodyTalk Access is designed to be used by anyone: layperson\, family member\, care giver or healthcare provider alike. These five simple techniques can bring about a significant improvement in health and once learned in the one-day Access class\, they can be implemented in less than 10 minutes. You will have these powerful tools for health for the rest of your life.<br />\n<br />\nIt is our hope that BodyTalk Access will be able to provide a basic level of health maintenance in communities and countries around the world where good healthcare may not be readily available. It is also our hope to reach families and give them options to take their health back into their own hands\, literally.
LOCATION:Taspen's Organics & Holistic Wellness Center 12424 Big Timber Dr. Conifer\, CO 80433
UID:e.692.7142
SEQUENCE:3
DTSTAMP:20260422T173033Z
URL:https://business.goconifer.com/events/details/become-a-certified-bodytalk-access-technician-04-18-2015-7142
END:VEVENT

END:VCALENDAR
