BEGIN:VCALENDAR
VERSION:2.0
PRODID:-//ChamberMaster//Event Calendar 2.0//EN
METHOD:PUBLISH
X-PUBLISHED-TTL:P3D
REFRESH-INTERVAL:P3D
CALSCALE:GREGORIAN
BEGIN:VEVENT
DTSTART:20120912T230000Z
DTEND:20120913T023000Z
X-MICROSOFT-CDO-ALLDAYEVENT:FALSE
SUMMARY:Bat House Bash
DESCRIPTION:Join Evergreen Audubon at its annual benefit for the Evergreen Nature Center. Director's tour of the Nature Center\, hors d'oeuvres\, beverages\, dinner by Fresh Tracks Catering\, silent auction\, paddle raise\, and bat entertainment.  $50 per regular ticket\, $75 per patron ticket\, $250 for sponsorship ticket. RSVP 303-330-0489 or evergreenaudubon.org.
X-ALT-DESC;FMTTYPE=text/html:<p class="p1">\n	Join Evergreen Audubon at its annual benefit for the Evergreen Nature Center. Director&#39\;s tour of the Nature Center\, hors d&#39\;oeuvres\, beverages\, dinner by Fresh Tracks Catering\, silent auction\, paddle raise\, and bat entertainment. &nbsp\;$50 per regular ticket\, $75 per patron ticket\, $250 for sponsorship ticket. RSVP 303-330-0489 or <a href="http://evergreenaudubon.org/"><span class="s1">evergreenaudubon.org</span></a>.</p>\n
LOCATION:Evergreen Lake House
UID:e.692.1346
SEQUENCE:3
DTSTAMP:20260424T171952Z
URL:https://business.goconifer.com/events/details/bat-house-bash-09-12-2012-1346
END:VEVENT

END:VCALENDAR
