BEGIN:VCALENDAR
VERSION:2.0
PRODID:-//ChamberMaster//Event Calendar 2.0//EN
METHOD:PUBLISH
X-PUBLISHED-TTL:P3D
REFRESH-INTERVAL:P3D
CALSCALE:GREGORIAN
BEGIN:VEVENT
DTSTART:20250114T190000Z
DTEND:20250114T200000Z
X-MICROSOFT-CDO-ALLDAYEVENT:FALSE
SUMMARY:Basics of Business Presentations
DESCRIPTION:Basics of Business Presentations\n\nTaught by Maria Simone of No Limits Endurance Coaching\n\nWe'll be reviewing best practices for shaping your content\, honing your delivery\, and providing effective visuals.
X-ALT-DESC;FMTTYPE=text/html:<p dir="ltr" style="line-height: 1.295\; text-align: center\; margin-top: 0pt\; margin-bottom: 0pt\; padding: 0pt 0pt 8pt\;"><span id="docs-internal-guid-8529cd1a-7fff-57f3-a266-252692b6d1c2"><span style="font-size: 12pt\; font-family: Arial\, sans-serif\; color: rgb(34\, 34\, 34)\; background-color: transparent\; font-weight: 700\; font-variant-numeric: normal\; font-variant-east-asian: normal\; font-variant-alternates: normal\; font-variant-position: normal\; vertical-align: baseline\; white-space-collapse: preserve\;">Basics of Business Presentations</span></span></p>\n\n<p dir="ltr" style="line-height: 1.295\; text-align: center\; margin-top: 0pt\; margin-bottom: 8pt\;"><span id="docs-internal-guid-8529cd1a-7fff-57f3-a266-252692b6d1c2"><span style="font-size: 12pt\; font-family: Arial\, sans-serif\; color: rgb(34\, 34\, 34)\; background-color: transparent\; font-variant-numeric: normal\; font-variant-east-asian: normal\; font-variant-alternates: normal\; font-variant-position: normal\; vertical-align: baseline\; white-space-collapse: preserve\;">Taught by Maria Simone of No Limits Endurance Coaching</span></span></p>\n\n<div><span style="color: rgb(34\, 34\, 34)\; font-family: Arial\, Helvetica\, sans-serif\; font-size: small\;">We&rsquo\;ll be reviewing best practices for shaping your content\, honing your delivery\, and providing effective visuals.&nbsp\;</span></div>\n
LOCATION:Conifer Area Chamber of Commerce 12424 Big Timber Dr. Unit 5 Conifer\, CO 80433
UID:e.692.45514
SEQUENCE:3
DTSTAMP:20260420T190552Z
URL:https://business.goconifer.com/events/details/basics-of-business-presentations-45514
END:VEVENT

END:VCALENDAR
