BEGIN:VCALENDAR
VERSION:2.0
PRODID:-//ChamberMaster//Event Calendar 2.0//EN
METHOD:PUBLISH
X-PUBLISHED-TTL:P3D
REFRESH-INTERVAL:P3D
CALSCALE:GREGORIAN
BEGIN:VEVENT
DTSTART:20120220T160000Z
DTEND:20120220T200000Z
X-MICROSOFT-CDO-ALLDAYEVENT:FALSE
SUMMARY:Barnraising at the new Mountain Peace Shelter
DESCRIPTION:Calling all Barnraisers/volunteers! The Mountain Peace Shelter has asked for Volunteers to help clean\, paint\, and organize the new store\, the Mountain Peace Boutique and Resale Shoppe\, and the new administrative offices of Mountain Peace Shelter\, prior to the Grand Opening March 1st! Starting tomorrow from 9am-1pm\, and continuing on Saturday and Monday\, same hours\, please come help for as much or as little as you can! The address is 60615 S. Hwy 285\, Bailey\, CO 80421 (formerly known as Bailey Plaza and Platte Canyon Grill)!\n\n\n\nFor the first two days bring: jam boxes\, buckets\, cleaners (like 409 with grease cutters)\, mops you don't care about\, gloves\, masks (if you wish)\, rags\, scrub brushes\, bleach\, brooms/dust pans\, garbage bags\, ladders\, and whatever else you can think of.\n\n\n\nI hope to have paint by the second two days\, so bring: roller pans\, drop cloths\, rollers/covers\, brushes\, brush buckets\, brush cleaning brushes\, ladders\, rags\, tape\, and again whatever else I am missing.\n\n\n\nWe will have a day of moving the office over\, so trucks and muscle are appreciated! Thank you everyone from Kathy!\n\n\n\nAdiitional details can be found here: http://285bound.com/Forums/viewtopic.php?f=52&t=17991&p=197187#p197187 and on the 285 Barnraisers Facebook page: https://www.facebook.com/groups/105485172824430/
X-ALT-DESC;FMTTYPE=text/html:Calling all Barnraisers/volunteers! The Mountain Peace Shelter has asked for Volunteers to help clean\, paint\, and organize the new store\, the Mountain Peace Boutique and Resale Shoppe\, and the new administrative offices of Mountain Peace Shelter\, prior to the Grand Opening March 1st! Starting tomorrow from 9am-1pm\, and continuing on Saturday and Monday\, same hours\, please come help for as much or as little as you can! The address is 60615 S. Hwy 285\, Bailey\, CO 80421 (formerly known as Bailey Plaza and Platte Canyon Grill)!<br />\n<br />\nFor the first two days bring: jam boxes\, buckets\, cleaners (like 409 with grease cutters)\, mops you don&#39\;t care about\, gloves\, masks (if you wish)\, rags\, scrub brushes\, bleach\, brooms/dust pans\, garbage bags\, ladders\, and whatever else you can think of.<br />\n<br />\nI hope to have paint by the second two days\, so bring: roller pans\, drop cloths\, rollers/covers\, brushes\, brush buckets\, brush cleaning brushes\, ladders\, rags\, tape\, and again whatever else I am missing.<br />\n<br />\nWe will have a day of moving the office over\, so trucks and muscle are appreciated! Thank you everyone from Kathy!<br />\n<br />\nAdiitional details can be found here: http://285bound.com/Forums/viewtopic.php?f=52&amp\;t=17991&amp\;p=197187#p197187 and on the 285 Barnraisers Facebook page: https://www.facebook.com/groups/105485172824430/
LOCATION:60615 S. Hwy 285\, Bailey\, CO 80421 (formerly known as Bailey Plaza and Platte Canyon Grill)
UID:e.692.1239
SEQUENCE:3
DTSTAMP:20260425T032948Z
URL:https://business.goconifer.com/events/details/barnraising-at-the-new-mountain-peace-shelter-02-20-2012-1239
END:VEVENT

END:VCALENDAR
