BEGIN:VCALENDAR
VERSION:2.0
PRODID:-//ChamberMaster//Event Calendar 2.0//EN
METHOD:PUBLISH
X-PUBLISHED-TTL:P3D
REFRESH-INTERVAL:P3D
CALSCALE:GREGORIAN
BEGIN:VEVENT
DTSTART:20160525T183000Z
DTEND:20160525T193000Z
X-MICROSOFT-CDO-ALLDAYEVENT:FALSE
SUMMARY:Balance Training Class
DESCRIPTION:Balance training can improve your coordination\, athletic skill\, and posture\, as well as decrease your risk of injury regardless of your age. \n\nEach class participant will be given a personal balance evaluation at the start of the class\, so that you can measure your progress\, and so that we can design a class that meets your personal needs.\n\nClass size is limited to 10
X-ALT-DESC;FMTTYPE=text/html:Balance training can improve your coordination\, athletic skill\, and posture\, as well as decrease your risk of injury regardless of your age.&nbsp\;<br />\nEach class participant will be given a personal balance evaluation at the start of the class\, so that you can measure your progress\, and so that we can design a class that meets your personal needs.<br />\nClass size is limited to 10
LOCATION:Conifer Physical Therapy 25577 Conifer Rd #125 Conifer CO 80433
UID:e.692.18813
SEQUENCE:3
DTSTAMP:20260421T234858Z
URL:https://business.goconifer.com/events/details/balance-training-class-05-25-2016-18813
END:VEVENT

END:VCALENDAR
