BEGIN:VCALENDAR
VERSION:2.0
PRODID:-//ChamberMaster//Event Calendar 2.0//EN
METHOD:PUBLISH
X-PUBLISHED-TTL:P3D
REFRESH-INTERVAL:P3D
CALSCALE:GREGORIAN
BEGIN:VEVENT
DTSTART:20210522T150000Z
DTEND:20210522T200000Z
X-MICROSOFT-CDO-ALLDAYEVENT:FALSE
SUMMARY:Bailey Art & Flea Market was so much fun Daddy's Homemade is doing it again!
DESCRIPTION:Last week was so much fun we are doing it again!\n\n\n\nFREE ADMISSION! Great food (Thanks Tony's New York Sammies!)\, Hot Rods and LIVE Music! Participants include LOCAL Artists\, homemade pancake syrup & mixes (Thanks Daddy's Homemade Syrup!)\, yard sale goods\, collectibles and MORE! Sign-up for our 5/22 event same day. FREE ADMISSION! A portion of proceeds will be donated to the Boys and Girls Club of the High Rockies. Come on by\, have some fun and support your Locals and Community!
X-ALT-DESC;FMTTYPE=text/html:<span style="background-color:rgb(247\, 247\, 247)\; color:rgb(68\, 68\, 68)\; font-family:helvetica neue\,helvetica\,arial\,sans-serif\; font-size:14px">Last week was so much fun we are doing it again!<br />\n<br />\nFREE ADMISSION! Great food (Thanks Tony&#39\;s New York Sammies!)\, Hot Rods and LIVE Music! Participants include LOCAL Artists\, homemade pancake syrup &amp\; mixes (Thanks Daddy&#39\;s Homemade Syrup!)\, yard sale goods\, collectibles and MORE! Sign-up for our 5/22 event same day. FREE ADMISSION! A portion of proceeds will be donated to the Boys and Girls Club of the High Rockies. Come on by\, have some fun and support your Locals and Community!</span>
LOCATION:Fun and Funky Art Galleries and Gifts 4 River Dr. Bailey\, CO next to Bailey Post Office
UID:e.692.32828
SEQUENCE:3
DTSTAMP:20260425T032949Z
URL:https://business.goconifer.com/events/details/bailey-art-flea-market-was-so-much-fun-daddy-s-homemade-is-doing-it-again-32828
END:VEVENT

END:VCALENDAR
