BEGIN:VCALENDAR
VERSION:2.0
PRODID:-//ChamberMaster//Event Calendar 2.0//EN
METHOD:PUBLISH
X-PUBLISHED-TTL:P3D
REFRESH-INTERVAL:P3D
CALSCALE:GREGORIAN
BEGIN:VEVENT
DTSTART:20180819T200000Z
DTEND:20180819T220000Z
X-MICROSOFT-CDO-ALLDAYEVENT:FALSE
SUMMARY:BACK to SCHOOL Cooking with E.O.’s !
DESCRIPTION:August 19th - 2:00-4:00pm\n\nBACK to SCHOOL Cooking with E.O.'s !\n\nFun Foods for the back to school season! Learn to create kid-friendly lunches that will taste good and boost their immune systems for the back to school germ fest! We'll prepare and share recipes with EO's for healthful\, tasty\, kid-friendly meals.   \n\n$10 class fee includes a cooking oil sample!
X-ALT-DESC;FMTTYPE=text/html:<span style="font-size:14px"><strong><span style="font-family:maiandra gd\,sans-serif">August 19th - 2:00-4:00pm</span></strong><br />\n<strong><em><span style="color:#3D6355"><span style="font-family:maiandra gd\,sans-serif">BACK to SCHOOL</span></span></em></strong><strong><span style="color:#3D6355"><span style="font-family:maiandra gd\,sans-serif"> Cooking </span></span></strong><strong><span style="color:#3D6355"><span style="font-family:maiandra gd\,sans-serif">with E.O.&rsquo\;s !</span></span></strong><br />\n<span style="font-family:maiandra gd\,sans-serif">Fun Foods for the back to school season! Learn to create kid-friendly lunches that will taste good and boost their immune systems for the back to school germ fest! We&rsquo\;ll prepare and share recipes with EO&rsquo\;s for healthful\, tasty\, kid-friendly meals.&nbsp\; </span>&nbsp\;<br />\n<strong><span style="font-family:maiandra gd\,sans-serif">$10 class fee includes a cooking oil sample!</span></strong></span>
LOCATION:Blue Mountain Kitchens Showroom 10791 Kitty Dr Suite A\, Conifer\, CO 80433
UID:e.692.26465
SEQUENCE:3
DTSTAMP:20260421T002635Z
URL:https://business.goconifer.com/events/details/back-to-school-cooking-with-e-o-s-26465
END:VEVENT

END:VCALENDAR
