BEGIN:VCALENDAR
VERSION:2.0
PRODID:-//ChamberMaster//Event Calendar 2.0//EN
METHOD:PUBLISH
X-PUBLISHED-TTL:P3D
REFRESH-INTERVAL:P3D
CALSCALE:GREGORIAN
BEGIN:VEVENT
DTSTART:20160131T210000Z
DTEND:20160131T230000Z
X-MICROSOFT-CDO-ALLDAYEVENT:FALSE
SUMMARY:"AYCW" Party at Haley's Closet
DESCRIPTION:"AYCW" stands for All You Can Wear. We will have several racks designated as "AYCW". This will include shoes\, handbags\, clothes\, accessories\, etc. Whatever you can get on your body is yours to take home! Pay an entrance fee at the door\, come in\, and enjoy food and drinks and have fun! If you bring a friend you will get a discounted entrance fee!
X-ALT-DESC;FMTTYPE=text/html:<span style="color:#000000"><span style="font-size:16px"><span style="font-family:arial\,helvetica\,sans-serif">&quot\;AYCW&quot\; stands for All You Can Wear. We will have several racks designated as &quot\;AYCW&quot\;. This will include shoes\, handbags\, clothes\, accessories\, etc. Whatever you can get on your body is yours to take home! Pay an entrance fee at the door\, come in\, and enjoy food and drinks and have fun! If you bring a friend you will get a discounted entrance fee! </span></span></span>
LOCATION:26437 Conifer Road\, Conifer\, CO 80433
UID:e.692.17066
SEQUENCE:3
DTSTAMP:20260422T041431Z
URL:https://business.goconifer.com/events/details/aycw-party-at-haley-s-closet-01-31-2016-17066
END:VEVENT

END:VCALENDAR
