BEGIN:VCALENDAR
VERSION:2.0
PRODID:-//ChamberMaster//Event Calendar 2.0//EN
METHOD:PUBLISH
X-PUBLISHED-TTL:P3D
REFRESH-INTERVAL:P3D
CALSCALE:GREGORIAN
BEGIN:VEVENT
DTSTART:20120803T190000Z
DTEND:20120803T230000Z
X-MICROSOFT-CDO-ALLDAYEVENT:FALSE
SUMMARY:Auditions for the High School Company Productions
DESCRIPTION:Auditions for the High School Company Production "Legally Blonde"\n\n	To register email hkassman@stagedoortheatre.org
X-ALT-DESC;FMTTYPE=text/html:<p class="MsoNormal" style="margin: 0in 0in 0pt\; mso-layout-grid-align: none">\n	<span style="font-family: 'arial'\, 'sans-serif'\; color: #252731\; font-size: 12pt\; mso-font-kerning: 0pt\; mso-fareast-font-family: calibri">Auditions for the High School</span><span style="font-family: 'arial'\, 'sans-serif'\; font-size: 12pt\; mso-font-kerning: 0pt\; mso-fareast-font-family: calibri"><font color="#000000"> Company Production </font></span><font color="#000000"><span style="font-family: 'arial'\, 'sans-serif'\; font-size: 12pt\; mso-font-kerning: 0pt\; mso-fareast-font-family: calibri">&quot\;Legally Blonde&quot\;</span><span style="font-family: 'arial'\, 'sans-serif'\; color: windowtext\; font-size: 12pt\; mso-font-kerning: 0pt"><o:p></o:p></span></font></p>\n<p class="MsoNormal" style="margin: 0in 0in 0pt">\n	<span style="font-family: 'arial'\, 'sans-serif'\; font-size: 12pt\; mso-fareast-font-family: 'times new roman'\; mso-ansi-language: en-us\; mso-fareast-language: en-us\; mso-bidi-language: ar-sa"><font color="#000000">To register email hkassman@stagedoortheatre.org </font></span></p>\n
LOCATION:StageDoor Theatre 25797 Conifer Road\, Conifer\, CO 80433
UID:e.692.1319
SEQUENCE:3
DTSTAMP:20260424T184625Z
URL:https://business.goconifer.com/events/details/auditions-for-the-high-school-company-productions-08-03-2012-1319
END:VEVENT

END:VCALENDAR
