BEGIN:VCALENDAR
VERSION:2.0
PRODID:-//ChamberMaster//Event Calendar 2.0//EN
METHOD:PUBLISH
X-PUBLISHED-TTL:P3D
REFRESH-INTERVAL:P3D
CALSCALE:GREGORIAN
BEGIN:VEVENT
DTSTART:20120802T190000Z
DTEND:20120802T230000Z
X-MICROSOFT-CDO-ALLDAYEVENT:FALSE
SUMMARY:Auditions for the High School Company Productions
DESCRIPTION:Auditions for the High School Company Productions \n\n	"Once Upon A Mattress" And "Legally Blonde" \n\n	To register email hkassman@stagedoortheatre.org \n\n	Thursday and Friday\, August 2 & 3\, 1- 5 PM
X-ALT-DESC;FMTTYPE=text/html:<p class="MsoNormal" style="margin: 0in 0in 0pt\; mso-layout-grid-align: none">\n	<span style="font-family: 'arial'\, 'sans-serif'\; color: #252731\; font-size: 12pt\; mso-font-kerning: 0pt\; mso-fareast-font-family: calibri">Auditions for the High School</span><span style="font-family: 'arial'\, 'sans-serif'\; font-size: 12pt\; mso-font-kerning: 0pt\; mso-fareast-font-family: calibri"><font color="#000000"> Company Productions</font></span><span style="font-family: 'arial'\, 'sans-serif'\; font-size: 12pt\; mso-font-kerning: 0pt\; mso-fareast-font-family: calibri"><font color="#000000">&nbsp\;</font></span></p>\n<p class="MsoNormal" style="margin: 0in 0in 0pt\; mso-layout-grid-align: none">\n	<font color="#000000"><span style="font-family: 'arial'\, 'sans-serif'\; font-size: 12pt\; mso-font-kerning: 0pt\; mso-fareast-font-family: calibri">&quot\;Once Upon A Mattress&quot\; And &quot\;Legally Blonde&quot\;</span></font><span style="font-family: 'arial'\, 'sans-serif'\; color: windowtext\; font-size: 12pt\; mso-font-kerning: 0pt">&nbsp\;</span></p>\n<p class="MsoNormal" style="margin: 0in 0in 0pt">\n	<span style="font-family: 'arial'\, 'sans-serif'\; color: windowtext\; font-size: 12pt\; mso-font-kerning: 0pt">To register email hkassman@stagedoortheatre.org </span></p>\n<p class="MsoNormal" style="margin: 0in 0in 0pt">\n	<span style="font-family: 'arial'\, 'sans-serif'\; font-size: 12pt"><font color="#000000">Thursday and Friday\, August 2 &amp\; 3\, 1- 5 PM</font></span></p>\n
LOCATION:StageDoor Theatre 25797 Conifer Road\, Conifer\, CO 80433
UID:e.692.1318
SEQUENCE:3
DTSTAMP:20260424T202354Z
URL:https://business.goconifer.com/events/details/auditions-for-the-high-school-company-productions-08-02-2012-1318
END:VEVENT

END:VCALENDAR
