BEGIN:VCALENDAR
VERSION:2.0
PRODID:-//ChamberMaster//Event Calendar 2.0//EN
METHOD:PUBLISH
X-PUBLISHED-TTL:P3D
REFRESH-INTERVAL:P3D
CALSCALE:GREGORIAN
BEGIN:VEVENT
DTSTART:20120717T010000Z
DTEND:20120717T040000Z
X-MICROSOFT-CDO-ALLDAYEVENT:FALSE
SUMMARY:AUDITIONS FOR THE ADULT COMPANY SHOW "LUCKY STIFF"
DESCRIPTION:HERE'S YOUR CUE! \n\n	To request an audition time\, get more information or just chat about theater stuff\, contact our adult company producer\, Jill Manser at: jmanser@stagedoortheatre.org or call her at               303-995-8311\n\n	\n\n	\n\n	LUCKY STIFF \n\n	Performances will take place September 14-29\, 2012 \n\n	\n\n	OPEN AUDITIONS: \n\n	Actors are only required to attend one day. Auditions are \n\n	open to anyone age 18 and over\, and all people\, regardless \n\n	of previous acting/singing experience. Actors should come \n\n	prepared with 16 bars of a contemporary musical theatre \n\n	song selection (an accompanist will be available)\, and a \n\n	1-minute comedic monologue. Directors may or may not \n\n	have callbacks. Be prepared to dance and participate in a \n\n	cold reading. \n\n	\n\n	WANT TO BE PART OF THE SHOW OFFSTAGE? We need you too! \n\n	Tech crew\, costumers\, hair/makeup\, lights/sound\, box office -- the opportunities await you! \n\n	\n\n	ABOUT THE SHOW \n\n	About the Show: Lynn Ahrens and Stephen Flaherty\, the \n\n	authors of "Once On This Island\," "My Favorite Year\," and \n\n	"Ragtime" present this zany\, offbeat\, and very funny murder \n\n	mystery farce about an unassuming English shoe salesman \n\n	forced to take the corpse of his recently-murdered Atlantic \n\n	City croupier uncle on a week-long vacation to Monte Carlo. \n\n	Should he succeed\, Harry Witherspoon stands to inherit \n\n	$6\,000\,000. If not\, the money goes to the Universal Dog \n\n	Home of Brooklyn. The proceedings are sheer lunacy as \n\n	Harry comes up against his uncle's insanely jealous and \n\n	legally blind mistress\, her much put-upon optometrist \n\n	brother and Annabel Glick\, a zealous representative from \n\n	the Universal Dog Home determined to see Harry's \n\n	inheritance "go to the dogs."
X-ALT-DESC;FMTTYPE=text/html:<p class="MsoNormal" style="margin: 0in 0in 0pt">\n	<span class="postbody1"><b><span style="font-family: 'arial'\, 'sans-serif'\; font-size: 11pt"><font color="#000000">HERE&rsquo\;S YOUR CUE! </font></span></b></span><br />\n	<b><span style="font-family: 'arial'\, 'sans-serif'\; font-size: 11pt"><font color="#000000"><span class="postbody1"><span style="mso-ansi-font-size: 11.0pt\; mso-bidi-font-size: 11.0pt">To request an audition time\, get more information or just chat about theater stuff\, </span></span></font><span class="postbody1"><span style="mso-ansi-font-size: 11.0pt\; mso-bidi-font-size: 11.0pt"><font color="#000000">contact our adult company producer\, Jill Manser at: </font><a href="mailto:jmanser@stagedoortheatre.org"><font color="#0000ff">jmanser@stagedoortheatre.org</font></a><font color="#000000"> </font></span></span><font color="#000000"><span class="postbody1"><span style="mso-ansi-font-size: 11.0pt\; mso-bidi-font-size: 11.0pt">or call her at <skype:span class="skype_v3_tb_injection" context="303-995-8311" durex="%DADDYWIDTH%" durex2="%DADDYHEIGHT%" freecall="" fwidth="" id="softomate_v3_highlight_0" isfax="" mode=".modern" nof="" path="file://C:/Users/Terri/AppData/Local/Temp/Low/__SkypeIEToolbar_Cache/18ec7742fdda2ad4cdfd1daa2d0aad46/static/" skypeaction="call" skypeid="0" title="Call&nbsp\;this&nbsp\;phone&nbsp\;number&nbsp\;in&nbsp\;United&nbsp\;States&nbsp\;of&nbsp\;America&nbsp\;with&nbsp\;Skype:&nbsp\;+13039958311" type=".flex"><skype:span class="skype_v3_tb_nop" id="skype_v3_tb_nop0">&nbsp\;</skype:span><skype:span class="skype_v3_tb_imgA_flex" id="skype_v3_tb_droppart_0" skypeaction="drop" skypeid="0" skypesms="1" title="Skype actions">&nbsp\;&nbsp\;<skype:span class="skype_v3_tb_imgFlag" id="skype_v3_tb_img_f0" style="background-image: url(file://c:/users/terri/appdata/local/temp/low/__skypeietoolbar_cache/18ec7742fdda2ad4cdfd1daa2d0aad46/static/famfamfam/us.gif)">&nbsp\;&nbsp\;&nbsp\;&nbsp\;&nbsp\;&nbsp\;&nbsp\;</skype:span>&nbsp\;<skype:span class="skype_v3_tb_nop">&nbsp\;</skype:span></skype:span><skype:span class="skype_v3_tb_imgS" id="skype_v3_tb_img_s0">&nbsp\;</skype:span><skype:span class="skype_v3_tb_injectionIn" id="skype_v3_tb_text0"><skype:span class="skype_v3_tb_innerText" id="skype_v3_tb_innerText0">&nbsp\;303-995-8311</skype:span></skype:span></skype:span></span></span></font></span></b><br />\n	<br />\n	<br />\n	<span style="font-family: 'arial'\, 'sans-serif'\; font-size: 11pt"><font color="#000000"><span class="postbody1"><b><span style="mso-ansi-font-size: 11.0pt\; mso-bidi-font-size: 11.0pt">LUCKY STIFF</span></b></span><span class="postbody1"><span style="mso-ansi-font-size: 11.0pt\; mso-bidi-font-size: 11.0pt"> </span></span><br />\n	<span class="postbody1"><span style="mso-ansi-font-size: 11.0pt\; mso-bidi-font-size: 11.0pt">Performances will take place September 14-29\, 2012 </span></span><br />\n	<br />\n	<span class="postbody1"><u><span style="mso-ansi-font-size: 11.0pt\; mso-bidi-font-size: 11.0pt">OPEN AUDITIONS:</span></u></span><span class="postbody1"><span style="mso-ansi-font-size: 11.0pt\; mso-bidi-font-size: 11.0pt"> </span></span><br />\n	<span class="postbody1"><span style="mso-ansi-font-size: 11.0pt\; mso-bidi-font-size: 11.0pt">Actors are only required to attend one day. Auditions are </span></span><br />\n	<span class="postbody1"><span style="mso-ansi-font-size: 11.0pt\; mso-bidi-font-size: 11.0pt">open to anyone age 18 and over\, and all people\, regardless </span></span><br />\n	<span class="postbody1"><span style="mso-ansi-font-size: 11.0pt\; mso-bidi-font-size: 11.0pt">of previous acting/singing experience. Actors should come </span></span><br />\n	<span class="postbody1"><span style="mso-ansi-font-size: 11.0pt\; mso-bidi-font-size: 11.0pt">prepared with 16 bars of a contemporary musical theatre </span></span><br />\n	<span class="postbody1"><span style="mso-ansi-font-size: 11.0pt\; mso-bidi-font-size: 11.0pt">song selection (an accompanist will be available)\, and a </span></span><br />\n	<span class="postbody1"><span style="mso-ansi-font-size: 11.0pt\; mso-bidi-font-size: 11.0pt">1-minute comedic monologue. Directors may or may not </span></span><br />\n	<span class="postbody1"><span style="mso-ansi-font-size: 11.0pt\; mso-bidi-font-size: 11.0pt">have callbacks. Be prepared to dance and participate in a </span></span><br />\n	<span class="postbody1"><span style="mso-ansi-font-size: 11.0pt\; mso-bidi-font-size: 11.0pt">cold reading. </span></span><br />\n	<br />\n	<span class="postbody1"><u><span style="mso-ansi-font-size: 11.0pt\; mso-bidi-font-size: 11.0pt">WANT TO BE PART OF THE SHOW OFFSTAGE? </span></u></span><span class="postbody1"><span style="mso-ansi-font-size: 11.0pt\; mso-bidi-font-size: 11.0pt">We need you too! </span></span><br />\n	<span class="postbody1"><span style="mso-ansi-font-size: 11.0pt\; mso-bidi-font-size: 11.0pt">Tech crew\, costumers\, hair/makeup\, lights/sound\, box office -- the opportunities await you! </span></span><br />\n	<br />\n	<span class="postbody1"><u><span style="mso-ansi-font-size: 11.0pt\; mso-bidi-font-size: 11.0pt">ABOUT THE SHOW</span></u></span><span class="postbody1"><span style="mso-ansi-font-size: 11.0pt\; mso-bidi-font-size: 11.0pt"> </span></span><br />\n	<span class="postbody1"><span style="mso-ansi-font-size: 11.0pt\; mso-bidi-font-size: 11.0pt">About the Show: Lynn Ahrens and Stephen Flaherty\, the </span></span><br />\n	<span class="postbody1"><span style="mso-ansi-font-size: 11.0pt\; mso-bidi-font-size: 11.0pt">authors of &ldquo\;Once On This Island\,&rdquo\; &ldquo\;My Favorite Year\,&rdquo\; and </span></span><br />\n	<span class="postbody1"><span style="mso-ansi-font-size: 11.0pt\; mso-bidi-font-size: 11.0pt">&ldquo\;Ragtime&rdquo\; present this zany\, offbeat\, and very funny murder </span></span><br />\n	<span class="postbody1"><span style="mso-ansi-font-size: 11.0pt\; mso-bidi-font-size: 11.0pt">mystery farce about an unassuming English shoe salesman </span></span><br />\n	<span class="postbody1"><span style="mso-ansi-font-size: 11.0pt\; mso-bidi-font-size: 11.0pt">forced to take the corpse of his recently-murdered Atlantic </span></span><br />\n	<span class="postbody1"><span style="mso-ansi-font-size: 11.0pt\; mso-bidi-font-size: 11.0pt">City croupier uncle on a week-long vacation to Monte Carlo. </span></span><br />\n	<span class="postbody1"><span style="mso-ansi-font-size: 11.0pt\; mso-bidi-font-size: 11.0pt">Should he succeed\, Harry Witherspoon stands to inherit </span></span><br />\n	<span class="postbody1"><span style="mso-ansi-font-size: 11.0pt\; mso-bidi-font-size: 11.0pt">$6\,000\,000. If not\, the money goes to the Universal Dog </span></span><br />\n	<span class="postbody1"><span style="mso-ansi-font-size: 11.0pt\; mso-bidi-font-size: 11.0pt">Home of Brooklyn. The proceedings are sheer lunacy as </span></span><br />\n	<span class="postbody1"><span style="mso-ansi-font-size: 11.0pt\; mso-bidi-font-size: 11.0pt">Harry comes up against his uncle&rsquo\;s insanely jealous and </span></span><br />\n	<span class="postbody1"><span style="mso-ansi-font-size: 11.0pt\; mso-bidi-font-size: 11.0pt">legally blind mistress\, her much put-upon optometrist </span></span><br />\n	<span class="postbody1"><span style="mso-ansi-font-size: 11.0pt\; mso-bidi-font-size: 11.0pt">brother and Annabel Glick\, a zealous representative from </span></span><br />\n	<span class="postbody1"><span style="mso-ansi-font-size: 11.0pt\; mso-bidi-font-size: 11.0pt">the Universal Dog Home determined to see Harry&rsquo\;s </span></span><br />\n	<span class="postbody1"><span style="mso-ansi-font-size: 11.0pt\; mso-bidi-font-size: 11.0pt">inheritance &ldquo\;go to the dogs.&rdquo\; </span></span></font></span><br style="mso-special-character: line-break" />\n	&nbsp\;</p>\n
LOCATION:StageDoor Theatre\, 25797 Conifer Road\, Conifer\, CO 80433
UID:e.692.1315
SEQUENCE:3
DTSTAMP:20260424T202549Z
URL:https://business.goconifer.com/events/details/auditions-for-the-adult-company-show-lucky-stiff-07-16-2012-1315
END:VEVENT

END:VCALENDAR
