BEGIN:VCALENDAR
VERSION:2.0
PRODID:-//ChamberMaster//Event Calendar 2.0//EN
METHOD:PUBLISH
X-PUBLISHED-TTL:P3D
REFRESH-INTERVAL:P3D
CALSCALE:GREGORIAN
BEGIN:VEVENT
DTSTART;VALUE=DATE:20110801
DTEND;VALUE=DATE:20110803
TRANSP:TRANSPARENT
X-MICROSOFT-CDO-ALLDAYEVENT:TRUE
SUMMARY:Auditions for StageDoor Theatre's high school company
DESCRIPTION:Auditions are for StageDoor Theatre's high school fall production of Hello Dolly\, and for the spring show\, Curtains.
X-ALT-DESC;FMTTYPE=text/html:Auditions are for StageDoor Theatre&#39\;s high school fall production of Hello Dolly\, and for the spring show\, Curtains.
LOCATION:StageDoor Theater\, 25797 Conifer Road\, Conifer\, 80433
UID:e.692.1168
SEQUENCE:3
DTSTAMP:20260425T112933Z
URL:https://business.goconifer.com/events/details/auditions-for-stagedoor-theatre-s-high-school-company-08-01-2011-1168
END:VEVENT

END:VCALENDAR
