BEGIN:VCALENDAR
VERSION:2.0
PRODID:-//ChamberMaster//Event Calendar 2.0//EN
METHOD:PUBLISH
X-PUBLISHED-TTL:P3D
REFRESH-INTERVAL:P3D
CALSCALE:GREGORIAN
BEGIN:VEVENT
DTSTART:20130817T150000Z
DTEND:20130817T180000Z
X-MICROSOFT-CDO-ALLDAYEVENT:FALSE
SUMMARY:Auditions for "Hairspray" at THE VENUE THEATRE COMPANY
DESCRIPTION:The fall performance of "Hairspray" will be the first performance in the beautiful new theatre\, "The Venue Theatre Company"\, located in the Conifer Safeway Center.\n\n\n\n !--[if !supportLineBreakNewLine]-- "Hairspray" character auditions will be held Saturday August 17\, at 9:00 AM.\n\n\n\n"The Venue's" opening week will begin Tuesday\, August 13th\, with 3 days of free audition workshops\, Tuesday - Thursday\, August 13 - 15\, 4:00 - 7:00 PM. Workshops include vocal work\, monologue reading\, choreography\, and more. The workshops are open to any and all high school students interested in musical theatre.
X-ALT-DESC;FMTTYPE=text/html:<span style="color: black\; font-family: &quot\;Arial&quot\;\,&quot\;sans-serif&quot\;\; font-size: 10pt\; mso-fareast-font-family: &quot\;Times New Roman&quot\;\; mso-ansi-language: EN-US\; mso-fareast-language: EN-US\; mso-bidi-language: AR-SA\; mso-font-kerning: 14.0pt\;">The fall performance of &quot\;Hairspray&quot\; will be the first performance in the beautiful new theatre\, &quot\;The Venue Theatre Company&quot\;\, located in the Conifer Safeway Center.<br />\n<br />\n&lt\;!--[if !supportLineBreakNewLine]--&gt\;</span><span style="color: black\; font-family: &quot\;Arial&quot\;\,&quot\;sans-serif&quot\;\; font-size: 10pt\; mso-fareast-font-family: &quot\;Times New Roman&quot\;\; mso-ansi-language: EN-US\; mso-fareast-language: EN-US\; mso-bidi-language: AR-SA\; mso-font-kerning: 14.0pt\;">&quot\;Hairspray&quot\;&nbsp\;character auditions will be held Saturday August 17\, at 9:00 AM.</span><br />\n<br />\n<span style="color: black\; font-family: &quot\;Arial&quot\;\,&quot\;sans-serif&quot\;\; font-size: 10pt\; mso-fareast-font-family: &quot\;Times New Roman&quot\;\; mso-ansi-language: EN-US\; mso-fareast-language: EN-US\; mso-bidi-language: AR-SA\; mso-font-kerning: 14.0pt\;">&quot\;The Venue&#39\;s&quot\;&nbsp\;opening week will begin&nbsp\;Tuesday\, August 13th\, with 3 days of free audition workshops\, Tuesday - Thursday\, August 13 - 15\, 4:00 - 7:00 PM.&nbsp\;Workshops&nbsp\;include vocal work\, monologue reading\, choreography\, and more. The workshops are open to any and all high school students interested in musical theatre.&nbsp\;</span><br />\n<br />\n
LOCATION:THE VENUE THEATRE COMPANY\, 27182 Main Street #130\, Conifer\, 80433
UID:e.692.1497
SEQUENCE:3
DTSTAMP:20260424T020207Z
URL:https://business.goconifer.com/events/details/auditions-for-hairspray-at-the-venue-theatre-company-08-17-2013-1497
END:VEVENT

END:VCALENDAR
