BEGIN:VCALENDAR
VERSION:2.0
PRODID:-//ChamberMaster//Event Calendar 2.0//EN
METHOD:PUBLISH
X-PUBLISHED-TTL:P3D
REFRESH-INTERVAL:P3D
CALSCALE:GREGORIAN
BEGIN:VEVENT
DTSTART:20141022T003000Z
DTEND:20141022T033000Z
X-MICROSOFT-CDO-ALLDAYEVENT:FALSE
SUMMARY:Audition: I LOVE YOU\, YOU'RE PERFECT\, NOW CHANGE
DESCRIPTION:Needed: Two men and two women\, age 18 or older\, to play multiple characters in different stages of relationships. All must have a strong middle range vocally. One male will need to also be comfortable in the tenor range. Please prepare a 1-2 minute monologue\, and sing a number from the show. ?I Will Be Loved Tonight for the female roles and ?Shouldn?t I Be Less in Love? for the male roles. Songs can be found on iTunes and sheet music can be provided by request. An accompanist will be provided. This show features close harmonies and a cappella singing ? the ability to read music is a plus. Bring a headshot and resume.
X-ALT-DESC;FMTTYPE=text/html:Needed: Two men and two women\, age 18 or older\, to play multiple characters in different stages of relationships. All must have a strong middle range vocally. One male will need to also be comfortable in the tenor range. Please prepare a 1-2 minute monologue\, and sing a number from the show. ?I Will Be Loved Tonight for the female roles and ?Shouldn?t I Be Less in Love? for the male roles. Songs can be found on iTunes and sheet music can be provided by request. An accompanist will be provided. This show features close harmonies and a cappella singing ? the ability to read music is a plus. Bring a headshot and resume.
LOCATION:StageDoor Theatre 25797 Conifer Road Conifer\, CO 80433
UID:e.692.3383
SEQUENCE:3
DTSTAMP:20260423T063144Z
URL:https://business.goconifer.com/events/details/audition-i-love-you-you-re-perfect-now-change-10-21-2014-3383
END:VEVENT

END:VCALENDAR
