BEGIN:VCALENDAR
VERSION:2.0
PRODID:-//ChamberMaster//Event Calendar 2.0//EN
METHOD:PUBLISH
X-PUBLISHED-TTL:P3D
REFRESH-INTERVAL:P3D
CALSCALE:GREGORIAN
BEGIN:VEVENT
DTSTART;VALUE=DATE:20140412
DTEND;VALUE=DATE:20140413
TRANSP:TRANSPARENT
X-MICROSOFT-CDO-ALLDAYEVENT:TRUE
SUMMARY:Aspen Creek Veterinary Hospital - In House Discount Vaccine Clinic
DESCRIPTION:Call for a reservation to take advantage of discounted rates on animal vaccinations.
X-ALT-DESC;FMTTYPE=text/html:Call for a reservation to take advantage of discounted rates on animal vaccinations.
LOCATION:Aspen Creek Veterinary Hospital 23605 Oehlman Park Road\, Conifer
UID:e.692.2351
SEQUENCE:3
DTSTAMP:20260423T145259Z
URL:https://business.goconifer.com/events/details/aspen-creek-veterinary-hospital-in-house-discount-vaccine-clinic-04-12-2014-2351
END:VEVENT

END:VCALENDAR
