BEGIN:VCALENDAR
VERSION:2.0
PRODID:-//ChamberMaster//Event Calendar 2.0//EN
METHOD:PUBLISH
X-PUBLISHED-TTL:P3D
REFRESH-INTERVAL:P3D
CALSCALE:GREGORIAN
BEGIN:VEVENT
DTSTART:20100716T220000Z
DTEND:20100725T220000Z
X-MICROSOFT-CDO-ALLDAYEVENT:FALSE
SUMMARY:Arts Alive Evergreen- A Showcase Event
DESCRIPTION:A 10-day showcase event featuring the best of  Evergreen's Visual & Performing Arts. Participants include: Center for the Arts Evergreen\, Art for the Mountain Community\, Artists with Altitude\, Evergreen Chamber Orchestra\, Evergreen Chorale\, Evergreen Children's Chorale\, Evergreen Downtown Business Association\, Galleries of Evergreen\, Evergreen Jazz Festival\, Evergreen Players\, Hiwan Homestead Museum & Heritage Grove\, Evergreen Area Chamber of Commerce\,  and Open Door Studios Artists of Evergreen
X-ALT-DESC;FMTTYPE=text/html:A 10-day showcase event featuring the best of  Evergreen's Visual &amp\; Performing Arts. Participants include: Center for the Arts Evergreen\, Art for the Mountain Community\, Artists with Altitude\, Evergreen Chamber Orchestra\, Evergreen Chorale\, Evergreen Children's Chorale\, Evergreen Downtown Business Association\, Galleries of Evergreen\, Evergreen Jazz Festival\, Evergreen Players\, Hiwan Homestead Museum &amp\; Heritage Grove\, Evergreen Area Chamber of Commerce\,  and Open Door Studios Artists of Evergreen 
LOCATION:Evergreen\, Colorado
UID:e.692.431
SEQUENCE:3
DTSTAMP:20260424T141751Z
URL:https://business.goconifer.com/events/details/arts-alive-evergreen-a-showcase-event-07-16-2010-431
END:VEVENT

END:VCALENDAR
