BEGIN:VCALENDAR
VERSION:2.0
PRODID:-//ChamberMaster//Event Calendar 2.0//EN
METHOD:PUBLISH
X-PUBLISHED-TTL:P3D
REFRESH-INTERVAL:P3D
CALSCALE:GREGORIAN
BEGIN:VEVENT
DTSTART:20140409T010000Z
DTEND:20140409T023000Z
X-MICROSOFT-CDO-ALLDAYEVENT:FALSE
SUMMARY:ARE YOU READY FOR YOUR TEEN TO START TO DRIVE?
DESCRIPTION:This is a panel discussion covering topics that are important for both parents and teens. We will also discuss Drive Smart's Driver's Education scholarships. The panel includes: Drive Safe Driving Schools\, Mountain Roads Driving Schools\, Carby Farmer's Insurance\, and Alive at 25. Presented by Drive Smart and the Colo. Dept. of Transportation
X-ALT-DESC;FMTTYPE=text/html:This is a panel discussion covering topics that are important for both parents and teens. We will also discuss Drive Smart&#39\;s Driver&#39\;s Education scholarships. The panel includes: Drive Safe Driving Schools\, Mountain Roads Driving Schools\, Carby Farmer&#39\;s Insurance\, and Alive at 25. Presented by Drive Smart and the Colo. Dept. of Transportation
LOCATION:Conifer High School 1140 Hwy 73 Aspen Park\, CO 80433
UID:e.692.1809
SEQUENCE:3
DTSTAMP:20260423T160032Z
URL:https://business.goconifer.com/events/details/are-you-ready-for-your-teen-to-start-to-drive-04-08-2014-1809
END:VEVENT

END:VCALENDAR
