BEGIN:VCALENDAR
VERSION:2.0
PRODID:-//ChamberMaster//Event Calendar 2.0//EN
METHOD:PUBLISH
X-PUBLISHED-TTL:P3D
REFRESH-INTERVAL:P3D
CALSCALE:GREGORIAN
BEGIN:VEVENT
DTSTART:20140408T010000Z
DTEND:20140408T023000Z
X-MICROSOFT-CDO-ALLDAYEVENT:FALSE
SUMMARY:ARE YOU READY FOR YOUR TEEN TO START TO DRIVE?
DESCRIPTION:This is a panel discussion covering topics that are important for both parents and teens. We will also discuss Drive Smarts Driver's Education Scholarships. This event is provided by Drive-Smart and the Colo. Dept. of Transportation. The Panel includes: Drive Safe Driving School\, Mountain Roads Driving Schools\, Carby Farmer's Insurance and Alive at 25
X-ALT-DESC;FMTTYPE=text/html:This is a panel discussion covering topics that are important for both parents and teens. We will also discuss Drive Smarts Driver&#39\;s Education Scholarships. This event is provided by Drive-Smart and the Colo. Dept. of Transportation. The Panel includes: Drive Safe Driving School\, Mountain Roads Driving Schools\, Carby Farmer&#39\;s Insurance and Alive at 25
LOCATION:Evergreen High School-Library 29300 Buffalo Park Rd. Evergreen
UID:e.692.1808
SEQUENCE:3
DTSTAMP:20260423T144137Z
URL:https://business.goconifer.com/events/details/are-you-ready-for-your-teen-to-start-to-drive-04-07-2014-1808
END:VEVENT

END:VCALENDAR
