BEGIN:VCALENDAR
VERSION:2.0
PRODID:-//ChamberMaster//Event Calendar 2.0//EN
METHOD:PUBLISH
X-PUBLISHED-TTL:P3D
REFRESH-INTERVAL:P3D
CALSCALE:GREGORIAN
BEGIN:VEVENT
DTSTART:20160619T160000Z
DTEND:20160619T210000Z
X-MICROSOFT-CDO-ALLDAYEVENT:FALSE
SUMMARY:Archery in the Park!
DESCRIPTION:Celebrate Father's Day Weekend by practicing archery at Staunton State Park!
X-ALT-DESC;FMTTYPE=text/html:Celebrate Father&#39\;s Day Weekend by practicing archery at Staunton State Park!
LOCATION:Staunton State Park\, 12102 S Elk Creek Rd\, Pine CO 80470
UID:e.692.18851
SEQUENCE:3
DTSTAMP:20260421T211253Z
URL:https://business.goconifer.com/events/details/archery-in-the-park-06-19-2016-18851
END:VEVENT

END:VCALENDAR
