BEGIN:VCALENDAR
VERSION:2.0
PRODID:-//ChamberMaster//Event Calendar 2.0//EN
METHOD:PUBLISH
X-PUBLISHED-TTL:P3D
REFRESH-INTERVAL:P3D
CALSCALE:GREGORIAN
BEGIN:VEVENT
DTSTART:20180825T160000Z
DTEND:20180825T200000Z
X-MICROSOFT-CDO-ALLDAYEVENT:FALSE
SUMMARY:Archery at Staunton State Park
DESCRIPTION:Come enjoy archery! All skill levels welcome. This event is Instructor guided. All equipment is provided. Fun for all ages!\n\n\n\nFishing equipment including bait available to borrow for the day. Pickup at archery range near upper parking lot.
X-ALT-DESC;FMTTYPE=text/html:Come enjoy archery! All skill levels welcome. This event is Instructor guided. All equipment is provided. Fun for all ages!<br />\n<br />\n<span style="color:blue"><strong>Fishing</strong></span> equipment including bait available to borrow for the day. Pickup at archery range near upper parking lot.
LOCATION:Staunton State Park\, 12102 S Elk Creek Rd\, Pine CO 80470
UID:e.692.26486
SEQUENCE:3
DTSTAMP:20260421T002210Z
URL:https://business.goconifer.com/events/details/archery-at-staunton-state-park-26486
END:VEVENT

END:VCALENDAR
