BEGIN:VCALENDAR
VERSION:2.0
PRODID:-//ChamberMaster//Event Calendar 2.0//EN
METHOD:PUBLISH
X-PUBLISHED-TTL:P3D
REFRESH-INTERVAL:P3D
CALSCALE:GREGORIAN
BEGIN:VEVENT
DTSTART:20250413T020000Z
DTEND:20250413T033000Z
X-MICROSOFT-CDO-ALLDAYEVENT:FALSE
SUMMARY:April Full Moon Hike
DESCRIPTION:Join GeesE for an easy hike at Staunton State Park ending with a cup of something sweet.  The condition of the trail will determine the length of hike we take\, with the plan to be hiking for about one and a half hours. If the cloud conditions allow\, we will just use the light of the full moon to illuminate the easy\, smooth trail. However\, we do recommend bringing some sort of flashlight or headlamp in case the clouds don't cooperate. When we get back to the parking lot\, we will have a sweet treat before concluding our time together. Be sure to wear lots of layers. Depending on trail conditions\, micro spikes or snowshoes may be necessary. We will have a few available for rent\, if you have your own\, please plan to bring them along. ?\n\n\n\n*Staunton State Park requires an entry fee. If your car is registered in CO\, and you opted in for the Keep Colorado Wild Pass\, then you are covered. Otherwise\, you will need to pay the $10 per vehicle entry day pass on the way into the park.\n\n\n\nEach month we will hike on the night of the Full Moon and/or Almost-Full Moon depending on the date of the full moon. Below are the upcoming dates available to register to reserve your spot.\n\n\n\nApril Pink Moon\n\n-Full Moon Hike: Saturday\, April 12\n\n             -8:00 - 9:30pm All Ages Full Moon Hike\n\n\n\nMore to come! Check back for future dates.
X-ALT-DESC;FMTTYPE=text/html:Join GeesE for an easy hike at Staunton State Park ending with a cup of something sweet.&nbsp\; The condition of the trail will determine the length of hike we take\, with the plan to be hiking for about one and a half hours. If the cloud conditions allow\, we will just use the light of the full moon to illuminate the easy\, smooth trail. However\, we do recommend bringing some sort of flashlight or headlamp in case the clouds don&#39\;t cooperate. When we get back to the parking lot\, we will have a sweet treat before concluding our time together. Be sure to wear lots of layers. Depending on trail conditions\, micro spikes or snowshoes may be necessary. We will have a few available for rent\, if you have your own\, please plan to bring them along. ?<br />\n<br />\n*Staunton State Park requires an entry fee. If your car is registered in CO\, and you opted in for the Keep Colorado Wild Pass\, then you are covered. Otherwise\, you will need to pay the $10 per vehicle entry day pass on the way into the park.<br />\n<br />\nEach month we will hike on the night of the Full Moon and/or Almost-Full Moon depending on the date of the full moon. Below are the upcoming dates available to register to reserve your spot.<br />\n<br />\nApril Pink Moon<br />\n-Full Moon Hike: Saturday\, April 12<br />\n&nbsp\; &nbsp\; &nbsp\; &nbsp\; &nbsp\; &nbsp\; &nbsp\;-8:00 - 9:30pm All Ages Full Moon Hike<br />\n<br />\nMore to come! Check back for future dates.
LOCATION:Staunton State Park 12102 S Elk Creek Rd\, Pine\, CO 80470
UID:e.692.46308
SEQUENCE:3
DTSTAMP:20260425T231856Z
URL:https://business.goconifer.com/events/details/april-full-moon-hike-46308
END:VEVENT

END:VCALENDAR
