BEGIN:VCALENDAR
VERSION:2.0
PRODID:-//ChamberMaster//Event Calendar 2.0//EN
METHOD:PUBLISH
X-PUBLISHED-TTL:P3D
REFRESH-INTERVAL:P3D
CALSCALE:GREGORIAN
BEGIN:VEVENT
DTSTART:20110408T131500Z
DTEND:20110408T150000Z
X-MICROSOFT-CDO-ALLDAYEVENT:FALSE
SUMMARY:April 8th Conifer Chamber Membership Meeting
DESCRIPTION:Conifer Area Chamber of Commerce Membership Meeting\n\n	Everyone is welcome! \n\n	 \n\n	Speakers: Jayne Reiter Small Business Development Center (SBDC)\n\n	Denise Stephens Jefferson County Resource Center\n\n	 \n\n	Learn more about the free business resources available to you!
X-ALT-DESC;FMTTYPE=text/html:<p style="text-align: center">\n	<span style="font-size: 14px"><strong>Conifer Area Chamber of Commerce Membership Meeting</strong><br />\n	Everyone is welcome!&nbsp\;<br />\n	&nbsp\;<br />\n	Speakers: Jayne Reiter&mdash\;Small Business Development Center (SBDC)<br />\n	Denise Stephens&mdash\;Jefferson County Resource Center<br />\n	&nbsp\;<br />\n	Learn more about the <u><strong>free business resources</strong></u> available to you!</span><br />\n	&nbsp\;</p>\n
LOCATION:NEW LOCATION! Brooks Place Tavern 27175 Main Street\, Conifer\, CO 80433 (By Sonic in the new Safeway Center - below Up The Mountain Steakhouse)
UID:e.692.1123
SEQUENCE:3
DTSTAMP:20260425T034601Z
URL:https://business.goconifer.com/events/details/april-8th-conifer-chamber-membership-meeting-04-08-2011-1123
END:VEVENT

END:VCALENDAR
