BEGIN:VCALENDAR
VERSION:2.0
PRODID:-//ChamberMaster//Event Calendar 2.0//EN
METHOD:PUBLISH
X-PUBLISHED-TTL:P3D
REFRESH-INTERVAL:P3D
CALSCALE:GREGORIAN
BEGIN:VEVENT
DTSTART:20240418T230000Z
DTEND:20240419T020000Z
X-MICROSOFT-CDO-ALLDAYEVENT:FALSE
SUMMARY:Annual Awards 2024
DESCRIPTION:Join us at the Conifer Chamber of Commerce Annual Awards Celebration as we honor the exceptional businesses and individuals who have made significant contributions to our community over the past year. This prestigious event is an opportunity to honor excellence\, network with fellow professionals\, and inspire future success. Don't miss out on this unforgettable evening of recognition and celebration.\n\nClick the green "register" button on the right\, then the purple "add attendee" for each ticket purchased.\n\n\n\nYou can vote for your favorites here: https://forms.gle/GVkXBtr7ZJSzMgvE8\n\n\n\n$50 Event Ticket (Includes dinner and 2 drinks)\n\n$250 Table sponsor (Receive two tickets to the event\, a table topper on one of the tables\, logo and link on goconifer.com event page\, listing in event program and mention from the podium.)\n\n$500 Bar Sponsor (Receive four tickets to the event\, logo and link on goconifer.com event page\, one eBlast to be used during the calendar year\, logo displayed at the bar\, listing in event program and mention from the podium.)
X-ALT-DESC;FMTTYPE=text/html:<span style="color: rgb(13\, 13\, 13)\; font-family: Söhne\, ui-sans-serif\, system-ui\, -apple-system\, &quot\;Segoe UI&quot\;\, Roboto\, Ubuntu\, Cantarell\, &quot\;Noto Sans&quot\;\, sans-serif\, &quot\;Helvetica Neue&quot\;\, Arial\, &quot\;Apple Color Emoji&quot\;\, &quot\;Segoe UI Emoji&quot\;\, &quot\;Segoe UI Symbol&quot\;\, &quot\;Noto Color Emoji&quot\;\; font-size: 16px\; white-space-collapse: preserve\;"><span style="font-size:20px\;">Join us at the Conifer Chamber of Commerce Annual Awards Celebration as we honor the exceptional businesses and individuals who have made significant contributions to our community over the past year. This prestigious event is an opportunity to honor excellence\, network with fellow professionals\, and inspire future success. Don&#39\;t miss out on this unforgettable evening of recognition and celebration.<br />\nClick the green &quot\;register&quot\; button on the right\, then the purple &quot\;add attendee&quot\; for each ticket purchased.</span><br />\n<br />\n<strong><span style="font-size:18px\;">You can vote for your favorites here: </span></strong></span><a href="https://forms.gle/GVkXBtr7ZJSzMgvE8"><strong><span style="font-size:18px\;">https://forms.gle/GVkXBtr7ZJSzMgvE8</span></strong></a><br />\n<br />\n<span style="font-size:16px\;"><strong>$50</strong>&nbsp\;<strong>Event Ticket</strong>&nbsp\;(Includes dinner and 2 drinks)<br style="font-size: 12px\;" />\n<strong>$250 Table sponsor&nbsp\;</strong>(<span id="docs-internal-guid-a7040763-7fff-80c7-eab5-1b49911005ca"><span style="font-family: Arial\, sans-serif\; color: rgb(10\, 10\, 10)\; background-color: transparent\; font-variant-numeric: normal\; font-variant-east-asian: normal\; font-variant-alternates: normal\; font-variant-position: normal\; vertical-align: baseline\; white-space-collapse: preserve\;">Receive&nbsp\;<strong>two&nbsp\;tickets</strong> to the event\, a table topper on one of the tables\, logo and link on goconifer.com event page\, listing in event program and mention from the podium.)<br />\n<strong>$500 Bar Sponsor </strong>(</span></span><span id="docs-internal-guid-89bf3ad3-7fff-eeb4-2f96-5e193274cf2a"><span style="font-family: Arial\, sans-serif\; color: rgb(10\, 10\, 10)\; background-color: transparent\; font-variant-numeric: normal\; font-variant-east-asian: normal\; font-variant-alternates: normal\; font-variant-position: normal\; vertical-align: baseline\; white-space-collapse: preserve\;">Receive</span></span><strong style="font-size: 12px\;"><span style="font-family: Arial\, sans-serif\; color: rgb(10\, 10\, 10)\; background-color: transparent\; font-variant-numeric: normal\; font-variant-east-asian: normal\; font-variant-alternates: normal\; font-variant-position: normal\; vertical-align: baseline\; white-space-collapse: preserve\;">&nbsp\;four&nbsp\;tickets </span></strong><span style="font-variant-numeric: normal\; font-variant-east-asian: normal\; font-variant-alternates: normal\; font-variant-position: normal\; white-space-collapse: preserve\; background-color: transparent\; font-family: Arial\, sans-serif\; color: rgb(10\, 10\, 10)\; vertical-align: baseline\;">to the event\, logo and link on goconifer.com event page\, one eBlast to be used during the calendar year\, logo displayed at the bar\, listing in event program and mention from the podium.)</span></span>
LOCATION:At the Woodlands! 8884 US Hwy 285 Morrison\, CO 80465
UID:e.692.41065
SEQUENCE:3
DTSTAMP:20260420T224926Z
URL:https://business.goconifer.com/events/details/annual-awards-2024-41065
END:VEVENT

END:VCALENDAR
