BEGIN:VCALENDAR
VERSION:2.0
PRODID:-//ChamberMaster//Event Calendar 2.0//EN
METHOD:PUBLISH
X-PUBLISHED-TTL:P3D
REFRESH-INTERVAL:P3D
CALSCALE:GREGORIAN
BEGIN:VEVENT
DTSTART:20160311T220000Z
DTEND:20160312T003000Z
X-MICROSOFT-CDO-ALLDAYEVENT:FALSE
SUMMARY:Annual Awards
DESCRIPTION:Conifer Area Chamber Annual Awards \n\nTo vote and to purchase tickets\, please go to GoConifer.com\n\nPublic voting is open from February 12 through February 25
X-ALT-DESC;FMTTYPE=text/html:<h1>Conifer Area Chamber Annual Awards&nbsp\;</h1>\n\n<h2>To vote and to purchase tickets\, please go to GoConifer.com</h2>\n\n<h2><span style="color:rgb(68\, 68\, 68)\; font-family:verdana\,geneva\,sans-serif\; font-size:12px">Public voting is open from February 12 through February 25</span></h2>\n\n<h3>&nbsp\;</h3>\n\n<div>&nbsp\;</div>\n\n<div>&nbsp\;</div>\n
LOCATION:Tomahawk Ranch\, 2113 Park County Rd #43\, Bailey
UID:e.692.17097
SEQUENCE:3
DTSTAMP:20260422T023743Z
URL:https://business.goconifer.com/events/details/annual-awards-03-11-2016-17097
END:VEVENT

END:VCALENDAR
