BEGIN:VCALENDAR
VERSION:2.0
PRODID:-//ChamberMaster//Event Calendar 2.0//EN
METHOD:PUBLISH
X-PUBLISHED-TTL:P3D
REFRESH-INTERVAL:P3D
CALSCALE:GREGORIAN
BEGIN:VEVENT
DTSTART:20120421T000000Z
DTEND:20120421T030000Z
X-MICROSOFT-CDO-ALLDAYEVENT:FALSE
SUMMARY:An Evening on Lake Victoria at Evergreen Lake
DESCRIPTION:We welcome you to join Into Your Hands Africa at An Evening on Lake Victoria at Evergreen Lake.  This incredible evening is filled with Ugandan music\, dinner\, drinks\, an African bazaar\, silent auction and stories from a place where so little goes so far.  We welcome hundreds of people during this annual event to celebrate the hope of Africa and benefit the many programs of Into Your Hands Africa.
X-ALT-DESC;FMTTYPE=text/html:<span class="Apple-style-span" style="font-family: Arial\, Helvetica\, sans-serif\; line-height: 17px\; color: rgb(0\, 0\, 0)\; ">We welcome you to join Into Your Hands Africa at An Evening on Lake Victoria at Evergreen Lake.&nbsp\; This incredible evening is filled with Ugandan music\, dinner\, drinks\, an African bazaar\, silent auction and stories from a place where so little goes so far.&nbsp\; We welcome hundreds of people during this annual event to celebrate the hope of Africa and benefit the many programs of Into Your Hands Africa.</span>
LOCATION:Evergreen Lake House
UID:e.692.1247
SEQUENCE:3
DTSTAMP:20260425T003855Z
URL:https://business.goconifer.com/events/details/an-evening-on-lake-victoria-at-evergreen-lake-04-20-2012-1247
END:VEVENT

END:VCALENDAR
