BEGIN:VCALENDAR
VERSION:2.0
PRODID:-//ChamberMaster//Event Calendar 2.0//EN
METHOD:PUBLISH
X-PUBLISHED-TTL:P3D
REFRESH-INTERVAL:P3D
CALSCALE:GREGORIAN
BEGIN:VEVENT
DTSTART:20140719T173000Z
DTEND:20140719T200000Z
X-MICROSOFT-CDO-ALLDAYEVENT:FALSE
SUMMARY:All School Reunion & Community Get Together
DESCRIPTION:Take the Bait and Come Celebrate! You'll have a FINtastic time!\n\nSunshine Express Food Truck * Ice Cream * Reminisce * Swap Fish Tales\n\nMiniature Golf * Kids' Fishin' Game
X-ALT-DESC;FMTTYPE=text/html:Take the Bait and Come Celebrate! You&#39\;ll have a FINtastic time!<br />\nSunshine Express Food Truck * Ice Cream * Reminisce * Swap Fish Tales<br />\nMiniature Golf * Kids&#39\; Fishin&#39\; Game
LOCATION:Little White Schoolhouse\, 26951 Barkley Road\, Conifer\, CO 80433
UID:e.692.3272
SEQUENCE:3
DTSTAMP:20260423T115807Z
URL:https://business.goconifer.com/events/details/all-school-reunion-community-get-together-07-19-2014-3272
END:VEVENT

END:VCALENDAR
