BEGIN:VCALENDAR
VERSION:2.0
PRODID:-//ChamberMaster//Event Calendar 2.0//EN
METHOD:PUBLISH
X-PUBLISHED-TTL:P3D
REFRESH-INTERVAL:P3D
CALSCALE:GREGORIAN
BEGIN:VEVENT
DTSTART:20100513T230000Z
DTEND:20100514T010000Z
X-MICROSOFT-CDO-ALLDAYEVENT:FALSE
SUMMARY:After Hours Chamber Mixer
DESCRIPTION:Come join the LBAT (Lobo Business Alliance Team) and DECA for a Chamber Mixer
X-ALT-DESC;FMTTYPE=text/html:<div>Come join the LBAT (Lobo Business Alliance Team)&nbsp\;and DECA for a Chamber Mixer</div>
LOCATION:Conifer High School
UID:e.692.339
SEQUENCE:3
DTSTAMP:20260424T112213Z
URL:https://business.goconifer.com/events/details/after-hours-chamber-mixer-05-13-2010-339
END:VEVENT

END:VCALENDAR
