BEGIN:VCALENDAR
VERSION:2.0
PRODID:-//ChamberMaster//Event Calendar 2.0//EN
METHOD:PUBLISH
X-PUBLISHED-TTL:P3D
REFRESH-INTERVAL:P3D
CALSCALE:GREGORIAN
BEGIN:VEVENT
DTSTART:20140108T210000Z
DTEND:20140108T223000Z
X-MICROSOFT-CDO-ALLDAYEVENT:FALSE
SUMMARY:Advertising Your Business on Facebook
DESCRIPTION:Facebook is a major player when it comes to online advertising and it can be one of the best places to get new business and sell products. Setting up ads can be confusing and intimidating but in this webinar we'll simplify it and sort it all out for you. Join us to learn how to advertise on Facebook without emptying your wallet. Register today at: www.ColoradoChamberWebinars.com It's Free!
X-ALT-DESC;FMTTYPE=text/html:Facebook is a major player when it comes to online advertising and it can be one of the best places to get new business and sell products. Setting up ads can be confusing and intimidating but in this webinar we&#39\;ll simplify it and sort it all out for you. Join us to learn how to advertise on Facebook without emptying your wallet. Register today at: www.ColoradoChamberWebinars.com It&#39\;s Free!
LOCATION:Online Webinar: www.ColoradoChamberWebinars.com
UID:e.692.1759
SEQUENCE:3
DTSTAMP:20260423T184310Z
URL:https://business.goconifer.com/events/details/advertising-your-business-on-facebook-01-08-2014-1759
END:VEVENT

END:VCALENDAR
