BEGIN:VCALENDAR
VERSION:2.0
PRODID:-//ChamberMaster//Event Calendar 2.0//EN
METHOD:PUBLISH
X-PUBLISHED-TTL:P3D
REFRESH-INTERVAL:P3D
CALSCALE:GREGORIAN
BEGIN:VEVENT
DTSTART:20110415T010000Z
DTEND:20110416T200000Z
X-MICROSOFT-CDO-ALLDAYEVENT:FALSE
SUMMARY:Adventures of Lewis and Clark
DESCRIPTION:Prelude to the Evergreen Children's Chorale presents...\n\n  The Adventures of Lewis and Clark.
X-ALT-DESC;FMTTYPE=text/html:Prelude to the Evergreen Children's Chorale presents...\n<br>  The Adventures of Lewis and Clark.
LOCATION:West Jefferson Middle School\, 9449 S. Barnes Street
UID:e.692.1124
SEQUENCE:3
DTSTAMP:20260425T034600Z
URL:https://business.goconifer.com/events/details/adventures-of-lewis-and-clark-04-14-2011-1124
END:VEVENT

END:VCALENDAR
