BEGIN:VCALENDAR
VERSION:2.0
PRODID:-//ChamberMaster//Event Calendar 2.0//EN
METHOD:PUBLISH
X-PUBLISHED-TTL:P3D
REFRESH-INTERVAL:P3D
CALSCALE:GREGORIAN
BEGIN:VEVENT
DTSTART:20160224T200000Z
DTEND:20160225T000000Z
X-MICROSOFT-CDO-ALLDAYEVENT:FALSE
SUMMARY:Adult Mental Health First Aid Class
DESCRIPTION:Mental Health First Aid is an innovative\, 8-hour course designed to give you the tools to recognize a range of mental health problems and the skills and confidence to help someone in a mental health crisis. The program provides a concrete action plan to help someone in crisis connect with appropriate professional\, peer\, and self-help care.\n\nClass Dates: Wednesday\, February 24th & Friday\, February 26th\n\nClass Time: 1:00pm -5:00pm\n\nLocation: Jefferson Center for Mental Health - Clear Creek Conference Room\, 4851 Independence St.\, Wheat Ridge\, CO 80033\n\nClass is FREE\n\nRegister at www.mhfajcmh.org\n\nFor more information\, visit www.mhfajcmh.org or contact Julie DiTullio at 303-432-5644 or julied@jcmh.org
X-ALT-DESC;FMTTYPE=text/html:<p><strong><span style="color:rgb(51\, 51\, 51)\; font-family:georgia\,serif">Mental Health First Aid</span></strong><span style="color:rgb(51\, 51\, 51)\; font-family:georgia\,serif"> is an innovative\, 8-hour course designed to give you the tools to recognize a range of mental health problems and the skills and confidence to help someone in a mental health crisis. The program provides a concrete action plan to help someone in crisis connect with appropriate professional\, peer\, and self-help care.</span></p>\n\n<p><span style="color:rgb(51\, 51\, 51)\; font-family:georgia\,serif">Class Dates: Wednesday\, February 24th &amp\; Friday\, February 26th</span></p>\n\n<p><span style="color:rgb(51\, 51\, 51)\; font-family:georgia\,serif">Class Time: 1:00pm -5:00pm</span></p>\n\n<p><span style="color:rgb(51\, 51\, 51)\; font-family:georgia\,serif">Location: Jefferson Center for Mental Health - Clear Creek Conference Room\, 4851 Independence St.\, Wheat Ridge\, CO 80033</span></p>\n\n<p><span style="color:rgb(51\, 51\, 51)\; font-family:georgia\,serif">Class is FREE</span></p>\n\n<p><span style="color:rgb(51\, 51\, 51)\; font-family:georgia\,serif">Register at www.mhfajcmh.org</span></p>\n\n<p><span style="color:rgb(51\, 51\, 51)\; font-family:georgia\,serif">For more information\, visit www.mhfajcmh.org or contact Julie DiTullio at 303-432-5644 or julied@jcmh.org</span></p>\n
LOCATION:Jefferson Center for Mental Health - Clear Creek Conference Room\, 4851 Independence St.\, Wheat Ridge\, CO 80033
UID:e.692.16419
SEQUENCE:3
DTSTAMP:20260422T042507Z
URL:https://business.goconifer.com/events/details/adult-mental-health-first-aid-class-02-24-2016-16419
END:VEVENT

END:VCALENDAR
